BEGIN:VCALENDAR
PRODID:NingEventWidget-v1
VERSION:2.0
METHOD:PUBLISH
BEGIN:VEVENT
UID:3186561:Event:51959
DTSTAMP:20210313T172138Z
SUMMARY:Pamela Romney Openshaw:  \"The U.S. Constitution and Education
 : The Power of Parents\"
DESCRIPTION:Pamela Romney Openshaw will be speaking first on \"The U.S
 . Constitution and Education: The Power of Parents.\"  There are two 
 additional topics that Mrs. Openshaw will speak about at South Metro F
 ire Rescue on this date.  All events are listed at the bottom of the 
 page on the web site:\n\nhttp://www.promisesoftheconstitution.com/\n 
 \nSaturday, October 18, 2014 10:00-11:30 a.m. South Metro Fire Rescue 
 9195 E. Mineral Ave. Centennial, CO 80112\n\nNote other topics and tim
 es:\n\n\"How to Remain a Free People--Principles & Practices\"\nat 1:0
 0-2:30 p.m. at same location\n\n\"The Great Enemy of the Constitution 
 and Individual Liberties\"\nat 7:00-9:00 p.m. at same location \n\nMr
 s. Openshaw was on the Friday, \"Freedom 560\" with Ken Clark on KLZ 5
 60 radio.\n\nThere is time between each event to have a meal or run er
 rands.\n\n\n*************************\n\nNOTE:  Please do not contact
  the building management for information about this event.  \n\n\nFo
 r more information visit http://arapahoeteaparty.ning.com/events/pamel
 a-romney-openshaw-the-u-s-constitution-and-education-the-pow
DTSTART:20141018T160000Z
DTEND:20141018T173000Z
CATEGORIES:speaker
LOCATION:South Metro Fire Rescue Authority; Mineral Headquarters, Boar
 d Room
WEBSITE:https://maps.google.com/maps?oe=utf-8&client=firefox-a&ie=UTF-
 8&q=south+metro+fire+rescue+authority+mineral+headquarters&fb=1&gl=us&
 hq=south+metro+fire+rescue+authority+mineral+headquarters&cid=0,0,9189
 900575761474566&ei=wsvZUfvrHoWQyQHR5oGQCg&ved=0CIcBEPwSMAA
URL:https://maps.google.com/maps?oe=utf-8&client=firefox-a&ie=UTF-8&q=
 south+metro+fire+rescue+authority+mineral+headquarters&fb=1&gl=us&hq=s
 outh+metro+fire+rescue+authority+mineral+headquarters&cid=0,0,91899005
 75761474566&ei=wsvZUfvrHoWQyQHR5oGQCg&ved=0CIcBEPwSMAA
CONTACT:
ORGANIZER:[posted by W. Branstetter]
ATTACH;FMTTYPE="image/jpeg":
ATTENDEE;ROLE=REQ-PARTICIPANT;PARTSTAT=TENTATIVE;RSVP=TRUE;CN="W. Bran
 stetter":http://arapahoeteaparty.ning.com/profile/WBranstetter
END:VEVENT
END:VCALENDAR
