BEGIN:VCALENDAR
PRODID:NingEventWidget-v1
VERSION:2.0
METHOD:PUBLISH
BEGIN:VEVENT
UID:3186561:Event:52095
DTSTAMP:20210313T174653Z
SUMMARY:Pamela Romney Openshaw:  \"The Great Enemy of the Constitution
  and Individual Liberties\"
DESCRIPTION:Pamela Romney Openshaw will be speaking on \"The Great Ene
 my of the Constitution and Individual Liberties\"  There are two addi
 tional topics that Mrs. Openshaw will speak about at South Metro Fire 
 Rescue on this date.  All events are listed at the bottom of the page
  on the web site:\n\nhttp://www.promisesoftheconstitution.com/\n \nSa
 turday, October 18, 20147:00-9:00 p.m. South Metro Fire Rescue 9195 E.
  Mineral Ave. Centennial, CO 80112\n\nNote other topics and times:\n\n
 \"The U.S. Constitution and Education: The Power of Parents.\"\nat 10:
 00-11:30 a.m. at same location\n\n\"How to Remain a Free People--Princ
 iples & Practices\"\nat 1:00-2:30 p.m. at same location\n\n\"The Great
  Enemy of the Constitution and Individual Liberties\"\nat 7:00-9:00 p.
 m. at same location \n\nMrs. Openshaw was on the Friday, \"Freedom 56
 0\" with Ken Clark on KLZ 560 radio.\n\nThere is time between each eve
 nt to have a meal or run errands.\n\n\n*************************\n\nNO
 TE:  Please do not contact the building management for information ab
 out this event.  \n\n\nFor more information visit http://arapahoetea
 party.ning.com/events/pamela-romney-openshaw-the-great-enemy-of-the-co
 nstitution-and-in
DTSTART:20141019T010000Z
DTEND:20141019T030000Z
CATEGORIES:speaker
LOCATION:South Metro Fire Rescue Authority; Mineral Headquarters, Boar
 d Room
WEBSITE:https://maps.google.com/maps?oe=utf-8&client=firefox-a&ie=UTF-
 8&q=south+metro+fire+rescue+authority+mineral+headquarters&fb=1&gl=us&
 hq=south+metro+fire+rescue+authority+mineral+headquarters&cid=0,0,9189
 900575761474566&ei=wsvZUfvrHoWQyQHR5oGQCg&ved=0CIcBEPwSMAA
URL:https://maps.google.com/maps?oe=utf-8&client=firefox-a&ie=UTF-8&q=
 south+metro+fire+rescue+authority+mineral+headquarters&fb=1&gl=us&hq=s
 outh+metro+fire+rescue+authority+mineral+headquarters&cid=0,0,91899005
 75761474566&ei=wsvZUfvrHoWQyQHR5oGQCg&ved=0CIcBEPwSMAA
CONTACT:
ORGANIZER:[posted by W. Branstetter]
ATTACH;FMTTYPE="image/jpeg":
ATTENDEE;ROLE=REQ-PARTICIPANT;PARTSTAT=TENTATIVE;RSVP=TRUE;CN="W. Bran
 stetter":http://arapahoeteaparty.ning.com/profile/WBranstetter
END:VEVENT
END:VCALENDAR
