BEGIN:VCALENDAR
PRODID:NingEventWidget-v1
VERSION:2.0
METHOD:PUBLISH
BEGIN:VEVENT
UID:3186561:Event:52362
DTSTAMP:20210313T174659Z
SUMMARY:Pamela Romney Openshaw:  \"How to Remain a Free People--Princi
 ples & Practices\"
DESCRIPTION:Pamela Romney Openshaw will be speaking first on \"How to 
 Remain a Free People--Principles & Practices\"  There are two additio
 nal topics that Mrs. Openshaw will speak about at South Metro Fire Res
 cue on this date.  All events are listed at the bottom of the page on
  the web site:\n\nhttp://www.promisesoftheconstitution.com/\n \nSatur
 day, October 18, 2014 1:00-2:30 p.m. South Metro Fire Rescue 9195 E. M
 ineral Ave. Centennial, CO 80112\n\nNote other topics and times:\n\n\"
 The U.S. Constitution and Education: The Power of Parents.\"\nat 10:00
 -11:30 a.m. at same location\n\n\"How to Remain a Free People--Princip
 les & Practices\"\nat 1:00-2:30 p.m. at same location\n\n\"The Great E
 nemy of the Constitution and Individual Liberties\"\nat 7:00-9:00 p.m.
  at same location \n\nMrs. Openshaw was on the Friday, \"Freedom 560\
 " with Ken Clark on KLZ 560 radio.\n\nThere is time between each event
  to have a meal or run errands.\n\n\n*************************\n\nNOTE
 :  Please do not contact the building management for information abou
 t this event.  \n\n\nFor more information visit http://arapahoeteapa
 rty.ning.com/events/pamela-romney-openshaw-how-to-remain-a-free-people
 -principles-pra
DTSTART:20141018T190000Z
DTEND:20141018T203000Z
CATEGORIES:speaker
LOCATION:South Metro Fire Rescue Authority; Mineral Headquarters, Boar
 d Room
WEBSITE:https://maps.google.com/maps?oe=utf-8&client=firefox-a&ie=UTF-
 8&q=south+metro+fire+rescue+authority+mineral+headquarters&fb=1&gl=us&
 hq=south+metro+fire+rescue+authority+mineral+headquarters&cid=0,0,9189
 900575761474566&ei=wsvZUfvrHoWQyQHR5oGQCg&ved=0CIcBEPwSMAA
URL:https://maps.google.com/maps?oe=utf-8&client=firefox-a&ie=UTF-8&q=
 south+metro+fire+rescue+authority+mineral+headquarters&fb=1&gl=us&hq=s
 outh+metro+fire+rescue+authority+mineral+headquarters&cid=0,0,91899005
 75761474566&ei=wsvZUfvrHoWQyQHR5oGQCg&ved=0CIcBEPwSMAA
CONTACT:
ORGANIZER:[posted by W. Branstetter]
ATTACH;FMTTYPE="image/jpeg":
ATTENDEE;ROLE=REQ-PARTICIPANT;PARTSTAT=TENTATIVE;RSVP=TRUE;CN="Earl W.
  \"Rob\" Roberts Jr.":http://arapahoeteaparty.ning.com/profile/EarlWRo
 bRobertsJr
ATTENDEE;ROLE=REQ-PARTICIPANT;PARTSTAT=TENTATIVE;RSVP=TRUE;CN="W. Bran
 stetter":http://arapahoeteaparty.ning.com/profile/WBranstetter
END:VEVENT
END:VCALENDAR
