BEGIN:VCALENDAR
PRODID:NingEventWidget-v1
VERSION:2.0
METHOD:PUBLISH
BEGIN:VEVENT
UID:3186561:Event:3284
DTSTAMP:20210313T171904Z
SUMMARY:Operation: Can You Hear Us Now?
DESCRIPTION:Several Tea Party and 9.12 groups are planning to particip
 ate in the nationwide Operation: Can You Hear Us Now?, the October 17t
 h protest of TV and print media for misrepresenting the 9/12 March on 
 DC (and our various events in Colorado) in Denver, the Springs, Greele
 y and elsewhere in our state.\n\n\nDenver: Set of groups planning to p
 rotest along 3.5 blocks from ABC Channel 7 (123 E Speer Blvd Denver 80
 203) to NBC Channel 9 (500 E Speer Blvd 80203) -- if we have enough pe
 ople, we're going to line both sides of that divided boulevard. We may
  march to The Denver Post (101 W. Colfax Ave. - 1.12 m from ABC), but 
 that hasn't been settled yet.\n\nFor more information visit http://ara
 pahoeteaparty.ning.com/events/operation-can-you-hear-us-now
DTSTART:20091017T213000Z
DTEND:20091018T004500Z
CATEGORIES:rally
LOCATION:ABC/ KMGE studio extending East to NBC
WEBSITE:
URL:
CONTACT:
ORGANIZER;CN="Chairman's Committee":http://arapahoeteaparty.ning.com/p
 rofile/chairmanscommittee
ATTACH;FMTTYPE="image/jpeg":
ATTENDEE;ROLE=REQ-PARTICIPANT;PARTSTAT=ACCEPTED;RSVP=TRUE;CN="Chairman
 's Committee":http://arapahoeteaparty.ning.com/profile/chairmanscommit
 tee
ATTENDEE;ROLE=REQ-PARTICIPANT;PARTSTAT=TENTATIVE;RSVP=TRUE;CN="James C
 . Mott":http://arapahoeteaparty.ning.com/profile/JamesCMott
END:VEVENT
END:VCALENDAR
