BEGIN:VCALENDAR
PRODID:NingEventWidget-v1
VERSION:2.0
METHOD:PUBLISH
BEGIN:VEVENT
UID:3186561:Event:42318
DTSTAMP:20210313T172613Z
SUMMARY:Open Forum with Senator Carroll and other legislators
DESCRIPTION:This event is listed as a \"Coffee with Carroll, Ryden, To
 dd and Buckner\" in the events section on the web page for Senator Mor
 gan Carroll. \n \nSenator Morgan Carroll represents Colorado Senate 
 District 29\nhttp://www.senmorgancarroll.com/\n \nRepresentative Su R
 yden represents House District 36\nhttp://www.suryden.com/\n \nSenato
 r Nancy Todd represents Senate District 28\nhttp://www.nancytoddforsen
 ate.org/\n \nRepresentative Buckner represents House District 40\n \
 n \nThere are events posted for these legislators on their web sites 
 so check those listings if you are interested. \n \nThe event is sch
 eduled for 1 hour at 11:00 a.m. at Smoky Hill Library (Room A), 5430 S
 outh Biscay Circle, Centennial, Colorado.  However, the room has been
  reserved for this event from 10:30 a.m. to 1:30 p.m. so there may be 
 some flexibility with time for discussion with constituents.\n \nIf y
 ou have questions of your legislators and cannot attend this event, th
 ere should be contact information available on their web sites.\n \nI
 f anyone is aware of other similar events, please note them so they ca
 n be posted.\n \n \n\nFor more information visit http://arapahoeteap
 arty.ning.com/events/open-forum-with-senator-carroll-and-other-legisla
 tors-1
DTSTART:20130406T170000Z
DTEND:20130406T180000Z
CATEGORIES:"open forum", coffee
LOCATION:Smoky Hill Library; Room A
WEBSITE:https://maps.google.com/maps/ms?msid=200981017256624214766.000
 4d34709ccd5f294c2f&msa=0&ll=39.613094,-104.763222&spn=0.094686,0.18419
 3&iwloc=0004d3476fa61f568a6f9
URL:https://maps.google.com/maps/ms?msid=200981017256624214766.0004d34
 709ccd5f294c2f&msa=0&ll=39.613094,-104.763222&spn=0.094686,0.184193&iw
 loc=0004d3476fa61f568a6f9
CONTACT:
ORGANIZER:posted by W. Branstetter
ATTACH;FMTTYPE="image/jpeg":
ATTENDEE;ROLE=REQ-PARTICIPANT;PARTSTAT=ACCEPTED;RSVP=TRUE;CN="W. Brans
 tetter":http://arapahoeteaparty.ning.com/profile/WBranstetter
END:VEVENT
END:VCALENDAR
