BEGIN:VCALENDAR
PRODID:NingEventWidget-v1
VERSION:2.0
METHOD:PUBLISH
BEGIN:VEVENT
UID:3186561:Event:41649
DTSTAMP:20210313T173756Z
SUMMARY:Open Forum with Carroll, Ryden, and Todd
DESCRIPTION:This event is listed as a \"Coffee with Carroll, Ryden, To
 dd\" in the events section on the web page for Senator Morgan Carroll.
   There is a note that this is a new day and location.\n \nSenator M
 organ Carroll represents Colorado Senate District 29\nhttp://www.senmo
 rgancarroll.com/\n \nRepresentative Su Ryden represents House Distric
 t 36\nhttp://www.suryden.com/\n \nSenator Nancy Todd represents Senat
 e District 28\nhttp://www.nancytoddforsenate.org/\n \nThere are event
 s posted for these legislators on their web sites so check those listi
 ngs if you are interested. \n \nThe event is scheduled for 1 hour at
  11:00 a.m. at Smoky Hill Library (Room A), 5430 South Biscay Circle, 
 Centennial, Colorado.  However, the room has been reserved for this e
 vent from 10:30 a.m. to 1:30 p.m. so there may be some flexibility wit
 h time for discussion with constituents.\n \nIf you have questions of
  your legislators and cannot attend this event, there should be contac
 t information available on their web sites.\n \nIf anyone is aware of
  other similar events, please note them so they can be posted.\n \n 
 \n\nFor more information visit http://arapahoeteaparty.ning.com/events
 /open-forum-with-carroll-ryden-and-todd
DTSTART:20130202T180000Z
DTEND:20130202T190000Z
CATEGORIES:"open forum", coffee
LOCATION:Smoky Hill Library; Room A
WEBSITE:https://maps.google.com/maps/ms?msid=200981017256624214766.000
 4d34709ccd5f294c2f&msa=0&ll=39.613094,-104.763222&spn=0.094686,0.18419
 3&iwloc=0004d3476fa61f568a6f9
URL:https://maps.google.com/maps/ms?msid=200981017256624214766.0004d34
 709ccd5f294c2f&msa=0&ll=39.613094,-104.763222&spn=0.094686,0.184193&iw
 loc=0004d3476fa61f568a6f9
CONTACT:
ORGANIZER:posted by W. Branstetter
ATTACH;FMTTYPE="image/jpeg":
ATTENDEE;ROLE=REQ-PARTICIPANT;PARTSTAT=ACCEPTED;RSVP=TRUE;CN="W. Brans
 tetter":http://arapahoeteaparty.ning.com/profile/WBranstetter
END:VEVENT
END:VCALENDAR
