BEGIN:VCALENDAR
PRODID:NingEventWidget-v1
VERSION:2.0
METHOD:PUBLISH
BEGIN:VEVENT
UID:3186561:Event:47977
DTSTAMP:20210313T181828Z
SUMMARY:October Meeting: Arapahoe Tea Party
DESCRIPTION:Join the Arapahoe Tea Party and the Colorado Tea Party Pat
 riots for our October meeting.\n \nThe program content has not been 
 indicated yet, but I am guessing that with two state issues on the bal
 lot--Amendment 66 ($1 billion annual tax increase) and marijuana taxes
 --something certainly will be discussed.\n\n \n\n\n\n\nBring your que
 stions, your perspective and your comments. Our meetings have been sta
 nding room only, so come early!\n \nTuesday, October 8, 2013 6:30-8:
 30 pm South Metro Fire Rescue 9195 E. Mineral Ave. Centennial, CO 8011
 2\n \nIf you would be interested in helping with a committee or two t
 hat might help make meetings and events run smoother, would you please
  post a brief comment with this announcement.\n \nNote that the democ
 ratic group League of Women Voters has been running candidate forums f
 or various municipalities and other activist events.  Check the Arapa
 hoe County LWV web site.  If anyone finds other sponsors and events, 
 please comment with details.\n \nIf you are not connected via Faceboo
 k, please find the group \"Arapahoe Tea Party\" \nhttps://www.faceboo
 k.com/groups/arapahoeteaparty\n\nFor more information visit http://ara
 pahoeteaparty.ning.com/events/october-meeting-arapahoe-tea-party
DTSTART:20131009T003000Z
DTEND:20131009T023000Z
CATEGORIES:"monthly meeting"
LOCATION:South Metro Fire Rescue Authority; Mineral Headquarters, Boar
 d Room
WEBSITE:https://maps.google.com/maps?oe=utf-8&client=firefox-a&ie=UTF-
 8&q=south+metro+fire+rescue+authority+mineral+headquarters&fb=1&gl=us&
 hq=south+metro+fire+rescue+authority+mineral+headquarters&cid=0,0,9189
 900575761474566&ei=wsvZUfvrHoWQyQHR5oGQCg&ved=0CIcBEPwSMAA
URL:https://maps.google.com/maps?oe=utf-8&client=firefox-a&ie=UTF-8&q=
 south+metro+fire+rescue+authority+mineral+headquarters&fb=1&gl=us&hq=s
 outh+metro+fire+rescue+authority+mineral+headquarters&cid=0,0,91899005
 75761474566&ei=wsvZUfvrHoWQyQHR5oGQCg&ved=0CIcBEPwSMAA
CONTACT:303-885-2550
ORGANIZER:Randy Corporon [posted by W. Branstetter]
ATTACH;FMTTYPE="image/jpeg":
ATTENDEE;ROLE=REQ-PARTICIPANT;PARTSTAT=ACCEPTED;RSVP=TRUE;CN="Randy B 
 Corporon":http://arapahoeteaparty.ning.com/profile/RandyBCorporon
ATTENDEE;ROLE=REQ-PARTICIPANT;PARTSTAT=ACCEPTED;RSVP=TRUE;CN="W. Brans
 tetter":http://arapahoeteaparty.ning.com/profile/WBranstetter
END:VEVENT
END:VCALENDAR
