BEGIN:VCALENDAR
PRODID:NingEventWidget-v1
VERSION:2.0
METHOD:PUBLISH
BEGIN:VEVENT
UID:3186561:Event:52076
DTSTAMP:20210313T174724Z
SUMMARY:October Meeting: Arapahoe Tea Party (thinking about elections?
 )
DESCRIPTION:Join the Arapahoe Tea Party and the Colorado Tea Party Pat
 riots for our October 14, 2014, meeting.\n\n-- Andy and Cori Peth (\"T
 he Party of Choice\") \nhttp://www.thepartyofchoice.com/\n\nRandy Cor
 poron and Regina Thomson always pack a lot into these meetings and thi
 s is the last one before the November election.  There is still much 
 to be done.\n\n\nAs with all of the meetings, come early for a good se
 at.  There may be additions to the program with announcements or cand
 idates.\n\nOur meetings have been standing room only, so come early!\n
  \nTuesday, October 14, 2014 6:30-8:30 pm South Metro Fire Rescue 919
 5 E. Mineral Ave. Centennial, CO 80112\n \nWatch for other announceme
 nts from Randy Corporon regarding speakers or topics.  Listen to KLZ 
 560 radio.\n\nEvent announcement on Facebook:\n \n \n\n \nIf you wo
 uld be interested in helping with a committee or two that might help m
 ake meetings and events run smoother, would you please post a brief co
 mment with this announcement.\n \nIf you are not connected via Facebo
 ok, please find the group \"Arapahoe Tea Party\" \nhttps://www.facebo
 ok.com/groups/arapahoeteaparty\n \n*************************\n\nNOTE:
   Please do not contact the building management for information about
  this event.  The group sponsoring the event has contact information 
 at the link provided above.\n\n\n\nFor more information visit http://a
 rapahoeteaparty.ning.com/events/october-meeting-arapahoe-tea-party-thi
 nking-about-elections
DTSTART:20141015T003000Z
DTEND:20141015T023000Z
CATEGORIES:"monthly meeting"
LOCATION:South Metro Fire Rescue Authority; Mineral Headquarters, Boar
 d Room
WEBSITE:https://maps.google.com/maps?oe=utf-8&client=firefox-a&ie=UTF-
 8&q=south+metro+fire+rescue+authority+mineral+headquarters&fb=1&gl=us&
 hq=south+metro+fire+rescue+authority+mineral+headquarters&cid=0,0,9189
 900575761474566&ei=wsvZUfvrHoWQyQHR5oGQCg&ved=0CIcBEPwSMAA
URL:https://maps.google.com/maps?oe=utf-8&client=firefox-a&ie=UTF-8&q=
 south+metro+fire+rescue+authority+mineral+headquarters&fb=1&gl=us&hq=s
 outh+metro+fire+rescue+authority+mineral+headquarters&cid=0,0,91899005
 75761474566&ei=wsvZUfvrHoWQyQHR5oGQCg&ved=0CIcBEPwSMAA
CONTACT:303-885-2550
ORGANIZER:Regina Thomson and Randy Corporon [posted by W. Branstetter]
ATTACH;FMTTYPE="image/jpeg":
ATTENDEE;ROLE=REQ-PARTICIPANT;PARTSTAT=TENTATIVE;RSVP=TRUE;CN="W. Bran
 stetter":http://arapahoeteaparty.ning.com/profile/WBranstetter
END:VEVENT
END:VCALENDAR
