BEGIN:VCALENDAR
PRODID:NingEventWidget-v1
VERSION:2.0
METHOD:PUBLISH
BEGIN:VEVENT
UID:3186561:Event:4326
DTSTAMP:20210313T175805Z
SUMMARY:Obama and Bennet Protest Rally
DESCRIPTION:Lets be there and watch the O \"help\"? Bennet with his re
 -election campaign.\n\nhttp://www.bennetforcolorado.com/\n\nGrassroots
  Reception with President Obama in support of Sen. Michael Bennet\nJoi
 n President Obama and leaders from across Colorado for a grassroots re
 ception in support of Sen. Michael Bennet at the Fillmore Auditorium. 
 We hope to see you there!\nClick here to get tickets today -- hurry be
 fore they sell out.\n\nCocktail Reception with President Obama\nand Se
 n. Michael Bennet\nPlease join President Obama for a cocktail receptio
 n in preparation for Sen. Michael Bennet's election this fall. We hope
  you'll join us at this special event -- get your tickets today.\nClic
 k here to RSVP to this special event while there's still space.\n\nPAI
 D FOR BY COLORADO VICTORY 2010, A JOINT FUNDRAISING COMMITTEE AND AUTH
 ORIZED BY BENNET FOR COLORADO, THE COLORADO DEMOCRATIC\n\nFor more inf
 ormation visit http://arapahoeteaparty.ning.com/events/obama-and-benne
 t-protest-rally
DTSTART:20100218T200000Z
DTEND:20100218T210000Z
CATEGORIES:rally
LOCATION:The Fillmore
WEBSITE:
URL:
CONTACT:
ORGANIZER;CN="Chairman's Committee":http://arapahoeteaparty.ning.com/p
 rofile/chairmanscommittee
ATTACH;FMTTYPE="image/jpeg":
ATTENDEE;ROLE=REQ-PARTICIPANT;PARTSTAT=ACCEPTED;RSVP=TRUE;CN="Chairman
 's Committee":http://arapahoeteaparty.ning.com/profile/chairmanscommit
 tee
ATTENDEE;ROLE=REQ-PARTICIPANT;PARTSTAT=TENTATIVE;RSVP=TRUE;CN="Kenny P
 olzin":http://arapahoeteaparty.ning.com/profile/KennyPolzin
ATTENDEE;ROLE=REQ-PARTICIPANT;PARTSTAT=TENTATIVE;RSVP=TRUE;CN="Howard 
 Scott":http://arapahoeteaparty.ning.com/profile/HowardScott
END:VEVENT
END:VCALENDAR
