BEGIN:VCALENDAR
PRODID:NingEventWidget-v1
VERSION:2.0
METHOD:PUBLISH
BEGIN:VEVENT
UID:3186561:Event:29963
DTSTAMP:20210313T172520Z
SUMMARY:\"Obama: 365\" with Dennis Prager and Hugh Hewitt
DESCRIPTION:710 KNUS and 1460 KZNT radio and King Soopers are promoti
 ng an event \"Obama:  365\" where Dennis Prager and Hugh Hewitt, radi
 o hosts, will be speaking at the Douglas County Events Center.\n \nTh
 ere is a pre-event reception at 5:00 p.m. for the VIP ticket.\n \nPur
 chase tickets at King Soopers stores (Denver metro area?) or through 
 web links at:\n \nhttp://www.710knus.com/\n \norder:\nhttp://ev2.eve
 nue.net/cgi-bin/ncommerce3/SEGetEventInfo?ticketCode=GS%3ATWMT%3AKDEN1
 1%3AKDCE1107%3A&linkID=twmt\n \n \nmap:  http://g.co/maps/svf52\n 
 \nNote:  R Block Party was looking for volunteers to help with staffi
 ng this event starting at 4:00 p.m.  Make an inquiry to:  rblockpart
 y@comcast.net\n \n \nThis looks like a really good event.  If anyon
 e is interested in carpooling, please leave a comment.\n \n \n\nFor 
 more information visit http://arapahoeteaparty.ning.com/events/obama-3
 65-with-dennis-prager-and-hugh-hewitt
DTSTART:20111108T020000Z
DTEND:20111108T040000Z
CATEGORIES:lecture, forum
LOCATION:Douglas County Events Center
WEBSITE:http://g.co/maps/svf52
URL:http://g.co/maps/svf52
CONTACT:
ORGANIZER:posted by W. Branstetter
ATTACH;FMTTYPE="image/jpeg":
ATTENDEE;ROLE=REQ-PARTICIPANT;PARTSTAT=ACCEPTED;RSVP=TRUE;CN="Randy B 
 Corporon":http://arapahoeteaparty.ning.com/profile/RandyBCorporon
ATTENDEE;ROLE=REQ-PARTICIPANT;PARTSTAT=TENTATIVE;RSVP=TRUE;CN="W. Bran
 stetter":http://arapahoeteaparty.ning.com/profile/WBranstetter
END:VEVENT
END:VCALENDAR
