BEGIN:VCALENDAR
PRODID:NingEventWidget-v1
VERSION:2.0
METHOD:PUBLISH
BEGIN:VEVENT
UID:3186561:Event:46862
DTSTAMP:20210313T175519Z
SUMMARY:NSRF:  Andy Peth \"One Line, One Standard, One Message\"
DESCRIPTION:Andy Peth will be speaking at the North Suburban Republica
 n Forum on the topic titled \"One Line, One Standard, One Message\" th
 is Saturday morning.\n \nDoors open at 8:30 a.m., event starts at 9:0
 0 a.m.; cost is $7.00 includes continental breakfast.  Annual members
 hip for the group is $20.\n \nThe Grill at Legacy Ridge\n10801 Legacy
  Ridge Parkway\nWestminster, Colorado\n \nPlease refer to the followi
 ng web page for complete information on this event as well as a descri
 ption and map.\n \nhttp://www.thepartyofchoice.com/events.html\n \nT
 he links to the sponsoring group are also on the above page.\n \n \n
  \n \n\nFor more information visit http://arapahoeteaparty.ning.com/
 events/nsrf-andy-peth-one-line-one-standard-one-message
DTSTART:20130713T143000Z
DTEND:20130713T163000Z
CATEGORIES:speaker
LOCATION:The Grill at Legacy Ridge
WEBSITE:http://www.thepartyofchoice.com/index.html
URL:http://www.thepartyofchoice.com/index.html
CONTACT:
ORGANIZER:posted by W. Branstetter
ATTACH;FMTTYPE="image/jpeg":
END:VEVENT
END:VCALENDAR
