BEGIN:VCALENDAR
PRODID:NingEventWidget-v1
VERSION:2.0
METHOD:PUBLISH
BEGIN:VEVENT
UID:3186561:Event:48954
DTSTAMP:20210313T174740Z
SUMMARY:Now 5-8 a.m.-- Radio Show:  Wake Up with Randy Corporon (M-F, 
 5-8 a.m.) on KLZ 560
DESCRIPTION:Randy Corporon must be quite the \"Wake Up!\" program beca
 use KLZ 560 has arranged to start Monday morning, March 17, to add a t
 hird hour to the program.  For those who cannot catch the program bet
 ween 5-7 a.m. daily, try the new section from 7-8 a.m.  This could be
  interesting.\n\nArapahoe County Tea Party chairman Randy Corporon beg
 an hosting a new program on KLZ 560 radio Monday, January 6, 2014, wee
 kday mornings (M-F) between 5:00 and 7:00 a.m.  Look for more guests 
 and callers every morning.  Randy will keep things lively while keepi
 ng you informed of events, legislative bills, candidates, and other ne
 ws.  It must have been successful to create an early morning program 
 that people have dubbed a \"bookend\" to the liberty programs on KLZ.\
 n\nhttp://www.560thesource.com\n\nIf you are an early riser or conclud
 ing a late night shift, tune in.\n\nRandy had some really good support
 ers call in for the first show January 6, 2014, and Marc Zarlengo was 
 in studio for the second hour.  Check out Marc's web site OGRE eXpose
 d:\n\nhttp://ogreexposed.org/\n\nShow can be heard along the front ran
 ge of Colorado.  Out of range??  Just listen on TuneIn Radio anywher
 e in the world!! Use the \"Listen\" button on the KLZ 560 web site lis
 ted above for computer connection to the show.\n\n********************
 ******\n\n\n\nTune in for more information.\n\nPodcasts will be availa
 ble.\n\nStudio line: 303-477-5600.\n\n********************************
 ***\n\nRandy undoubtedly will have lots of material to kick off his ne
 w program considering Colorado legislature starts Wednesday and there 
 is so much to do and talk about.\n\n***********************\n\nhttps:/
 /www.facebook.com/WakeupKLZ\n\n\nFor more information visit http://ara
 pahoeteaparty.ning.com/events/now-5-8-a-m-radio-show-wake-up-with-rand
 y-corporon-m-f-5-8-a-m-1
DTSTART:20140318T110000Z
DTEND:20140318T140000Z
CATEGORIES:"radio show"
LOCATION:\"KLZ 560 AM the source radio\"
WEBSITE:http://www.560thesource.com/
URL:http://www.560thesource.com/
CONTACT:
ORGANIZER:Randy  B. Corporon [posted by W. Branstetter]
ATTACH;FMTTYPE="image/jpeg":
ATTENDEE;ROLE=REQ-PARTICIPANT;PARTSTAT=ACCEPTED;RSVP=TRUE;CN="W. Brans
 tetter":http://arapahoeteaparty.ning.com/profile/WBranstetter
END:VEVENT
END:VCALENDAR
