BEGIN:VCALENDAR
PRODID:NingEventWidget-v1
VERSION:2.0
METHOD:PUBLISH
BEGIN:VEVENT
UID:3186561:Event:47951
DTSTAMP:20210313T174619Z
SUMMARY:November Meeting: Arapahoe Tea Party
DESCRIPTION:Join the Arapahoe Tea Party and the Colorado Tea Party Pat
 riots for our October meeting.\n \nThe program content has not been 
 indicated yet, but hopefully there will be good results from the elect
 ion to discuss. \n\n \n\n\n\n\nBring your questions, your perspectiv
 e and your comments. Our meetings have been standing room only, so com
 e early!\n \nTuesday, November 12, 2013 6:30-8:30 pm South Metro Fire
  Rescue 9195 E. Mineral Ave. Centennial, CO 80112\n \nWatch for other
  announcements from Randy Corporon regarding speakers or topics.\n \n
 If you would be interested in helping with a committee or two that mig
 ht help make meetings and events run smoother, would you please post a
  brief comment with this announcement.\n \nIf you are not connected v
 ia Facebook, please find the group \"Arapahoe Tea Party\" \nhttps://w
 ww.facebook.com/groups/arapahoeteaparty\n \n*************************
 \n\nNOTE:  Please do not contact the building management for informat
 ion about this event.  The group sponsoring the event has contact inf
 ormation at the link provided above.\n\n\n\nFor more information visit
  http://arapahoeteaparty.ning.com/events/november-meeting-arapahoe-tea
 -party
DTSTART:20131113T013000Z
DTEND:20131113T033000Z
CATEGORIES:"monthly meeting"
LOCATION:South Metro Fire Rescue Authority; Mineral Headquarters, Boar
 d Room
WEBSITE:https://maps.google.com/maps?oe=utf-8&client=firefox-a&ie=UTF-
 8&q=south+metro+fire+rescue+authority+mineral+headquarters&fb=1&gl=us&
 hq=south+metro+fire+rescue+authority+mineral+headquarters&cid=0,0,9189
 900575761474566&ei=wsvZUfvrHoWQyQHR5oGQCg&ved=0CIcBEPwSMAA
URL:https://maps.google.com/maps?oe=utf-8&client=firefox-a&ie=UTF-8&q=
 south+metro+fire+rescue+authority+mineral+headquarters&fb=1&gl=us&hq=s
 outh+metro+fire+rescue+authority+mineral+headquarters&cid=0,0,91899005
 75761474566&ei=wsvZUfvrHoWQyQHR5oGQCg&ved=0CIcBEPwSMAA
CONTACT:303-885-2550
ORGANIZER:Randy Corporon [posted by W. Branstetter]
ATTACH;FMTTYPE="image/jpeg":
ATTENDEE;ROLE=REQ-PARTICIPANT;PARTSTAT=ACCEPTED;RSVP=TRUE;CN="Gary \"D
 allas\" D'Alessandro":http://arapahoeteaparty.ning.com/profile/GaryDal
 lasDAlessandro
ATTENDEE;ROLE=REQ-PARTICIPANT;PARTSTAT=ACCEPTED;RSVP=TRUE;CN="Jim Harg
 is":http://arapahoeteaparty.ning.com/profile/JimHargis
ATTENDEE;ROLE=REQ-PARTICIPANT;PARTSTAT=ACCEPTED;RSVP=TRUE;CN="W. Brans
 tetter":http://arapahoeteaparty.ning.com/profile/WBranstetter
ATTENDEE;ROLE=REQ-PARTICIPANT;PARTSTAT=ACCEPTED;RSVP=TRUE;CN="M Lucy S
 chell":http://arapahoeteaparty.ning.com/profile/MLucySchell
ATTENDEE;ROLE=REQ-PARTICIPANT;PARTSTAT=ACCEPTED;RSVP=TRUE;CN="H. J. Le
 dbetter":http://arapahoeteaparty.ning.com/profile/HJLedbetter
END:VEVENT
END:VCALENDAR
