BEGIN:VCALENDAR
PRODID:NingEventWidget-v1
VERSION:2.0
METHOD:PUBLISH
BEGIN:VEVENT
UID:3186561:Event:53788
DTSTAMP:20210313T172815Z
SUMMARY:North Jeffco Tea Party Meeting
DESCRIPTION:North Jeffco Tea Party has a packed schedule for their mee
 ting Thursday, January 15, 2015.  Check out the basic list:\n\nCarl R
 oberts—information on the ‘Preserving Parent-Child Relationships B
 ill’ that will be presented to the state legislature.\nMax Brewster
 presentation on the Common Law Grand Jury project.\nRebekah Brown—
 Heritage Action updates on Congress. \nAnd finally, we are very excit
 ed to announce our featured speaker of the evening will be…Steve Hou
 se—former Colorado gubernatorial candidate, with an exciting new pre
 sentation entitled “Innovating our way back to the Constitution and 
 Capitalism.” \n\nPlus, an important announcement that you will NOT
  want to miss! \n\nThursday, January 15, 2015\n6:30 p.m. to 8:30(?) p
 .m.\nBrunswick Zone Wheat Ridge\n9751 West 49th Avenue\nWheat Ridge, C
 olorado\n\nFacebook announcement:\nhttps://www.facebook.com/events/792
 298244177491/\n\nThere are many groups promoting ways to become inform
 ed and involved.  \n\n\n\n\nFor more information visit http://arapaho
 eteaparty.ning.com/events/north-jeffco-tea-party-meeting
DTSTART:20150116T013000Z
DTEND:20150116T033000Z
CATEGORIES:"monthly meeting"
LOCATION:Brunswick Zone Wheat Ridge
WEBSITE:https://www.facebook.com/events/792298244177491/
URL:https://www.facebook.com/events/792298244177491/
CONTACT:
ORGANIZER:posted by W. Branstetter
ATTACH;FMTTYPE="image/jpeg":
END:VEVENT
END:VCALENDAR
