BEGIN:VCALENDAR
PRODID:NingEventWidget-v1
VERSION:2.0
METHOD:PUBLISH
BEGIN:VEVENT
UID:3186561:Event:54983
DTSTAMP:20210313T171432Z
SUMMARY:North Jeffco Tea Party Meeting:  Rich Bratten, Rebekah Brown, 
 Darryl Glenn
DESCRIPTION:North Jeffco Tea Party has a meeting Thursday, June 18, 2
 015.  Speakers will include:  Rebekah Brown (Heritage Action), Rich 
 Bratten (Principles of Liberty), Darryl Glenn (candidate for U.S. Sena
 te).  This is the meeting to attend for updates on congressional legi
 slation, Colorado legislators and legislation review stats, and so muc
 h more.\nYou are invited! Come join like-minded patriots and hear impo
 rtant information regarding our county, our state, and our country! \
 n\nThursday, June 18, 2015\n6:30 p.m. to 8:30(?) p.m.\nBrunswick Zone 
 Wheat Ridge\n9751 West 49th Avenue\nWheat Ridge, Colorado\n\nFacebook 
 announcement:\nhttps://www.facebook.com/events/391985177672427/\n\n \
 n\n\n\n\n\nThere are many groups promoting ways to become informed and
  involved.  Pick a location, a topic, a speaker.  Get active.\n\n\n\
 n\nFor more information visit http://arapahoeteaparty.ning.com/events/
 north-jeffco-tea-party-meeting-rich-bratten-rebekah-brown-darryl-
DTSTART:20150619T003000Z
DTEND:20150619T023000Z
CATEGORIES:"monthly meeting"
LOCATION:Brunswick Zone Wheat Ridge
WEBSITE:https://www.facebook.com/events/391985177672427/
URL:https://www.facebook.com/events/391985177672427/
CONTACT:
ORGANIZER:posted by W. Branstetter
ATTACH;FMTTYPE="image/jpeg":
END:VEVENT
END:VCALENDAR
