BEGIN:VCALENDAR
PRODID:NingEventWidget-v1
VERSION:2.0
METHOD:PUBLISH
BEGIN:VEVENT
UID:3186561:Event:53969
DTSTAMP:20210313T193311Z
SUMMARY:North Jeffco Tea Party Meeting:  Andy Peth's \"One Line, One S
 tandard, One Message\"
DESCRIPTION:North Jeffco Tea Party has Andy Peth (The Party of Choice)
  presenting \"One Line, One Standard, One Message\" for their meeting
  Thursday, March 19, 2015.  There may be more?\n\nYou are invited! Co
 me join like-minded patriots and hear important information regarding 
 our county, our state, and our country! \n\nThursday, March 19, 2015\
 n6:30 p.m. to 8:30(?) p.m.\nBrunswick Zone Wheat Ridge\n9751 West 49th
  Avenue\nWheat Ridge, Colorado\n\nFacebook announcement:\n \nFind inf
 ormation about The Party of Choice at:\n\nhttp://www.thepartyofchoice.
 com/\n\n\n\n\nThere are many groups promoting ways to become informed 
 and involved.  Pick a location, a topic, a speaker.  Get active.\n\n
 \n\n\nFor more information visit http://arapahoeteaparty.ning.com/even
 ts/north-jeffco-tea-party-meeting-andy-peth-s-one-line-one-standard-
DTSTART:20150320T003000Z
DTEND:20150320T023000Z
CATEGORIES:"monthly meeting"
LOCATION:Brunswick Zone Wheat Ridge
WEBSITE:
URL:
CONTACT:
ORGANIZER:posted by W. Branstetter
ATTACH;FMTTYPE="image/jpeg":
END:VEVENT
END:VCALENDAR
