BEGIN:VCALENDAR
PRODID:NingEventWidget-v1
VERSION:2.0
METHOD:PUBLISH
BEGIN:VEVENT
UID:3186561:Event:52238
DTSTAMP:20210313T172815Z
SUMMARY:North Jeffco Tea Party
DESCRIPTION:Featured speaker is Tom Tancredo.  Check out the Facebook
  announcement for details:https://www.facebook.com/events/309504592580
 060/\n\nIf you are in or near the northwest metro Denver area, check o
 ut this meeting.  There are many people to meet and much to do.\n\n\n
 For more information visit http://arapahoeteaparty.ning.com/events/nor
 th-jeffco-tea-party-1
DTSTART:20141121T013000Z
DTEND:20141121T033000Z
CATEGORIES:meeting
LOCATION:Brunswick Zone Wheat Ridge
WEBSITE:https://www.facebook.com/events/309504592580060/
URL:https://www.facebook.com/events/309504592580060/
CONTACT:
ORGANIZER:North Jeffco Tea Party [posted by W. Branstetter]
ATTACH;FMTTYPE="image/jpeg":
ATTENDEE;ROLE=REQ-PARTICIPANT;PARTSTAT=ACCEPTED;RSVP=TRUE;CN="David M.
  Petteys":http://arapahoeteaparty.ning.com/profile/DavidMPetteys
END:VEVENT
END:VCALENDAR
