BEGIN:VCALENDAR
PRODID:NingEventWidget-v1
VERSION:2.0
METHOD:PUBLISH
BEGIN:VEVENT
UID:3186561:Event:38708
DTSTAMP:20210313T171709Z
SUMMARY:NO!!  MONTHLY MEETING--Arapahoe County Tea Party
DESCRIPTION:NO MEETING Tonight!\n \nThere will NOT be a meeting of th
 e Arapahoe County Tea Party on Tuesday, September 4. \n \nThere was 
 an announcement at the last meeting (August 7) that the meeting rooms 
 at the Smoky Hill Library had been reserved by other groups or purpose
 s.  In fact, the League of Women Voters had reserved the room for th
 is date and several other dates. \n \nIf someone has connections to 
 a location that might accommodate a group, please leave a comment belo
 w for Randy B. Corporon, our chairman.  The attendance at recent mee
 tings have been in the range of 110 to 125.  The single library roo
 m is only designed for 100. \n \nThe current calendar for Smoky Hill
  Library has the rooms reserved for most of the evenings into November
 .  The same could be said for the other libraries where the rooms are
  smaller.\n \n********************\nReminder:\n \nCandidates are out
  walking the various precincts and attending a variety of events.  P
 lease meet them and become informed and involved.  Candidates for a
 ll positions are looking for monetary support and support with other e
 vents--support them if you can.  Bumper stickers and yard signs displ
 ay are also helpful and needed.\n \nWatch for event announcements for
  other groups that have educational meetings and events.  Many events
  will be posted in the events section or on the Facebook page (Arapaho
 e Tea Party). \n \nhttp://arapahoeteaparty.ning.com/\nFacebook group
  name is Arapahoe Tea Party\n  ************************\n \nSteven H
 aworth has posted an event to volunteer for Tuesday, September 4:\n \
 nhttp://arapahoeteaparty.ning.com/events/afp-standing-tall-tuesday\n 
 \n \nHave you seen the movie \"2016:  Obama's America\"?  If not, i
 t is still in the theaters.  Please get your family and friends to go
  see it with you.\n \n \nThere is a 9/11 Freedom Rally at Arapahoe R
 acetrack on the events announcements for the weekend.  This event is 
 for 3 days and benefits a lot of charities so please consider supporti
 ng this event.\n \n \n\nFor more information visit http://arapahoete
 aparty.ning.com/events/no-monthly-meeting-arapahoe-county-tea-party
DTSTART:20120905T000000Z
DTEND:20120905T030000Z
CATEGORIES:"monthly meeting"
LOCATION:\"NO Meeting\"
WEBSITE:http://arapahoeteaparty.ning.com/
URL:http://arapahoeteaparty.ning.com/
CONTACT:(303) 690-5401
ORGANIZER:posted by W. Branstetter
ATTACH;FMTTYPE="image/jpeg":
END:VEVENT
END:VCALENDAR
