BEGIN:VCALENDAR
PRODID:NingEventWidget-v1
VERSION:2.0
METHOD:PUBLISH
BEGIN:VEVENT
UID:3186561:Event:44850
DTSTAMP:20210313T172125Z
SUMMARY:NO MEETING for R Block Party for April
DESCRIPTION:R Block Party has posted a message that there will be:\n 
 \nNO Meeting for April\n \nHopefully, the organizers will have plans 
 for May that can be posted soon.\n \n ************************\nFor 
 those who are not familiar with the group, R Block Party offers a grea
 t opportunity to meet people in office or who might be thinking of bei
 ng involved in many areas of the community or become informed on issue
 s. \n  \n \n\nFor more information visit http://arapahoeteaparty.n
 ing.com/events/no-meeting-for-r-block-party-for-april
DTSTART:20130426T003000Z
DTEND:20130426T024500Z
CATEGORIES:meeting
LOCATION:NONE
WEBSITE:
URL:
CONTACT:RBlockParty@comcast.net
ORGANIZER:posted by W. Branstetter
ATTACH;FMTTYPE="image/jpeg":
ATTENDEE;ROLE=REQ-PARTICIPANT;PARTSTAT=ACCEPTED;RSVP=TRUE;CN="W. Brans
 tetter":http://arapahoeteaparty.ning.com/profile/WBranstetter
END:VEVENT
END:VCALENDAR
