BEGIN:VCALENDAR
PRODID:NingEventWidget-v1
VERSION:2.0
METHOD:PUBLISH
BEGIN:VEVENT
UID:3186561:Event:38768
DTSTAMP:20210313T171715Z
SUMMARY:NO MEETING:  Colorado Conservative Singles 50+ Meeting
DESCRIPTION:Nancy Doty has sent this reminder about this group's decis
 ion about meetings: \n \n\"Due to busy summer schedules, we will not
  be meeting in August.  Our next meeting will be Wednesday, Sept. 26t
 h at 6:30 p.m. at Garcia's.  Please plan to attend and get prepared t
 o take action and help get our country back on track.  I'm working on
  an exciting presentation---more details to follow.\nNancy\"\n \n****
 ***********************\nTypically this group meets the 4th Wednesday 
 each month at Garcia's at 6:30 p.m.\n\nSpeakers at recent meetings:\n
 \nMay -- Dr. Jill Q. Vecchio spoke about the major problems with the P
 PACA (aka \"Obamacare\")\n\nJune -- Joe Bagi, Chaper Leader for Act fo
 r America discussing \"Radical Islam in the US\"\n.\n  \nNote:  Garc
 ia's is located just off I-25 and Belleview.  We will have our own ro
 om and waiter.  While there is no cover charge for our group, please 
 do plan to order something to eat and drink as the group must order at
  least $250 worth of food/beverage for us to continue to meet there.\n
 \nContact for information and future events nancydoty@comcast.net\n 
 \n \n****************************\nNote:  This group has been meetin
 g nearly two years.  Their events are posted at Meetup.com; check t
 hem out; bring a friend.\n \n \n\nFor more information visit http://
 arapahoeteaparty.ning.com/events/no-meeting-colorado-conservative-sing
 les-50-meeting
DTSTART:20120823T003000Z
DTEND:20120823T030000Z
CATEGORIES:meeting
LOCATION:Not on August 22 [at Garcia's Mexican Restaurant]
WEBSITE:http://www.meetup.com/Conservative-Adult-Singles/events/608634
 72/?a=ea1_grp&rv=ea1
URL:http://www.meetup.com/Conservative-Adult-Singles/events/60863472/?
 a=ea1_grp&rv=ea1
CONTACT:
ORGANIZER:Nancy Doty [posted by W. Branstetter]
ATTACH;FMTTYPE="image/jpeg":
ATTENDEE;ROLE=REQ-PARTICIPANT;PARTSTAT=ACCEPTED;RSVP=TRUE;CN="W. Brans
 tetter":http://arapahoeteaparty.ning.com/profile/WBranstetter
END:VEVENT
END:VCALENDAR
