BEGIN:VCALENDAR
PRODID:NingEventWidget-v1
VERSION:2.0
METHOD:PUBLISH
BEGIN:VEVENT
UID:3186561:Event:60262
DTSTAMP:20210313T175209Z
SUMMARY:NO MEETING: Arapahoe Tea Party (Room Not Available)
DESCRIPTION:Please note that the meeting room for the monthly meeting 
 is not available so the meeting for January 2017 will have to be a NO 
 Meeting night.\n\nPlease watch for other announcements. Â Stay safe. Â
  Best wishes.\n\n****************\n\nTypically the monthly meetings ar
 e the second Tuesday each month, barring other conflicts of scheduling
 .\n\n\nÂ \nTuesday, _____ 2017 6:30-8:30 pm South Metro Fire Rescue 91
 95 E. Mineral Ave. Centennial, CO 80112\n\nNOTE: Please do not call So
 uth Metro Fire Rescue's office for information, the board room is rese
 rved for many groups' purposes without details of the events.\nÂ \nEve
 nt announcement on Facebook:\nÂ \n\nIf you learn of townhall meetings 
 or candidate forums, please spread the word--i.e. in comments below or
  on the group's Facebook page. Â Watch this Arapahoe Tea Party website
  for events for other groups or educational events.\nÂ \nÂ \nIf you wo
 uld be interested in helping with a committee or two that might help m
 ake meetings and events run smoother, would you please post a brief co
 mment with this announcement.\nÂ \nIf you are not connected via Facebo
 ok, please find the group \"Arapahoe Tea Party\"Â for news items and e
 vents:\nhttps://www.facebook.com/groups/arapahoeteaparty\nÂ \n********
 *****************\n\nNOTE:Â  Please do not contact the building manage
 ment for information about this event.Â  The group sponsoring the even
 t has contact information at the link provided above.\n\n\n\nFor more 
 information visit http://arapahoeteaparty.ning.com/events/no-meeting-a
 rapahoe-tea-party-room-not-available
DTSTART:20170111T013000Z
DTEND:20170111T033000Z
CATEGORIES:"monthly meeting"
LOCATION:your choice
WEBSITE:
URL:
CONTACT:
ORGANIZER:Regina Thomson and Randy Corporon [posted by W. Branstetter]
ATTACH;FMTTYPE="image/jpeg":
END:VEVENT
END:VCALENDAR
