BEGIN:VCALENDAR
PRODID:NingEventWidget-v1
VERSION:2.0
METHOD:PUBLISH
BEGIN:VEVENT
UID:3186561:Event:64914
DTSTAMP:20210313T182837Z
SUMMARY:New Weekly TV Show (week 7):  \"Life, Liberty & Levin\" with M
 ark Levin
DESCRIPTION:FOX News has persuaded Mark Levin to do a weekly TV show t
 hat starts Sunday, February 25, 2018, at 10:00 p.m. ET (8:00 p.m. MT).
   First \"Life, Liberty & Levin\" had only one guest, not the typical
  panel format, guest Sarah Palin for week 7.  \r\n\r\nhttps://www.co
 nservativereview.com/articles/levintv-host-mark-levins-fox-news-show-p
 remieres-sunday/\r\n\r\nIf you do not have cable TV, try the FOX News 
 web site where I have noticed recently a video link [Watch TV button i
 n upper right corner] to the currently airing program.\r\nhttp://www.f
 oxnews.com/\r\n\r\n\r\n\r\n\n\nFor more information visit http://arapa
 hoeteaparty.ning.com/events/new-weekly-tv-show-week-7-life-liberty-lev
 in-with-mark-levin
DTSTART:20180409T020000Z
DTEND:20180409T030000Z
CATEGORIES:tv, program
LOCATION:FOX News
WEBSITE:http://www.foxnews.com/
URL:http://www.foxnews.com/
CONTACT:
ORGANIZER:[posted by W. Branstetter]
ATTACH;FMTTYPE="image/jpeg":
ATTENDEE;ROLE=REQ-PARTICIPANT;PARTSTAT=ACCEPTED;RSVP=TRUE;CN="W. Brans
 tetter":http://arapahoeteaparty.ning.com/profile/WBranstetter
END:VEVENT
END:VCALENDAR
