BEGIN:VCALENDAR
PRODID:NingEventWidget-v1
VERSION:2.0
METHOD:PUBLISH
BEGIN:VEVENT
UID:3186561:Event:64815
DTSTAMP:20210313T172803Z
SUMMARY:New Weekly TV Show (week 4):  \"Life, Liberty & Levin\" with M
 ark Levin
DESCRIPTION:FOX News has persuaded Mark Levin to do a weekly TV show t
 hat starts Sunday, February 25, 2018, at 10:00 p.m. ET (8:00 p.m. MT).
   First \"Life, Liberty & Levin\" had only one guest, not the typical
  panel format, guest __________.  \r\n\r\nhttps://www.conservativere
 view.com/articles/levintv-host-mark-levins-fox-news-show-premieres-sun
 day/\r\n\r\nIf you do not have cable TV, try the FOX News web site whe
 re I have noticed recently a video link [Watch TV button in upper righ
 t corner] to the currently airing program.\r\nhttp://www.foxnews.com/\
 r\n\r\n\r\n\r\n\n\nFor more information visit http://arapahoeteaparty.
 ning.com/events/new-weekly-tv-show-week-4-life-liberty-levin-with-mark
 -levin
DTSTART:20180319T020000Z
DTEND:20180319T030000Z
CATEGORIES:tv, program
LOCATION:FOX News
WEBSITE:http://www.foxnews.com/
URL:http://www.foxnews.com/
CONTACT:
ORGANIZER:[posted by W. Branstetter]
ATTACH;FMTTYPE="image/jpeg":
ATTENDEE;ROLE=REQ-PARTICIPANT;PARTSTAT=ACCEPTED;RSVP=TRUE;CN="W. Brans
 tetter":http://arapahoeteaparty.ning.com/profile/WBranstetter
END:VEVENT
END:VCALENDAR
