BEGIN:VCALENDAR
PRODID:NingEventWidget-v1
VERSION:2.0
METHOD:PUBLISH
BEGIN:VEVENT
UID:3186561:Event:64788
DTSTAMP:20210313T174439Z
SUMMARY:New Weekly TV Show:  \"Life, Liberty & Levin\" with Mark Levin
DESCRIPTION:FOX News has persuaded Mark Levin to do a weekly TV show t
 hat starts Sunday, February 25, 2018, at 10:00 p.m. ET (8:00 p.m. MT).
   \"Life, Liberty & Levin\" will start off with one guest, not the ty
 pical panel format, Walter Williams.  \r\n\r\nhttps://www.conservativ
 ereview.com/articles/levintv-host-mark-levins-fox-news-show-premieres-
 sunday/\r\n\r\nIf you do not have cable TV, try the FOX News web site 
 where I have noticed recently a video link [Watch TV button in upper r
 ight corner] to the currently airing program.\r\nhttp://www.foxnews.co
 m/\r\n\r\n\r\n\r\n\n\nFor more information visit http://arapahoeteapar
 ty.ning.com/events/new-weekly-tv-show-life-liberty-levin-with-mark-lev
 in
DTSTART:20180226T030000Z
DTEND:20180226T040000Z
CATEGORIES:tv, program
LOCATION:FOX News
WEBSITE:http://www.foxnews.com/
URL:http://www.foxnews.com/
CONTACT:
ORGANIZER:[posted by W. Branstetter]
ATTACH;FMTTYPE="image/jpeg":
ATTENDEE;ROLE=REQ-PARTICIPANT;PARTSTAT=ACCEPTED;RSVP=TRUE;CN="W. Brans
 tetter":http://arapahoeteaparty.ning.com/profile/WBranstetter
END:VEVENT
END:VCALENDAR
