BEGIN:VCALENDAR
PRODID:NingEventWidget-v1
VERSION:2.0
METHOD:PUBLISH
BEGIN:VEVENT
UID:3186561:Event:53573
DTSTAMP:20210313T173745Z
SUMMARY:New Time:  “Grassroots Radio Colorado” radio program on KL
 Z 560 AM
DESCRIPTION:The week night time slot for \"Grassroots Radio Colorado\"
  with Kristina Cook is shifting to 6:00 to 8:00 p.m. starting Monday, 
 January 5, 2015.\n\nUndoubtedly with the 2015 Colorado legislative ses
 sion starting soon there will be so much more to talk about.\n\n\nhttp
 ://www.560thesource.com/\n\n\n\n\n\n\nFor more information visit http:
 //arapahoeteaparty.ning.com/events/new-time-grassroots-radio-colorado-
 radio-program-on-klz-560-am
DTSTART:20150106T010000Z
DTEND:20150106T030000Z
CATEGORIES:"radio show"
LOCATION:\"KLZ 560 AM the source radio\"
WEBSITE:http://www.560thesource.com/
URL:http://www.560thesource.com/
CONTACT:
ORGANIZER:posted by W. Branstetter
ATTACH;FMTTYPE="image/jpeg":
ATTENDEE;ROLE=REQ-PARTICIPANT;PARTSTAT=TENTATIVE;RSVP=TRUE;CN="W. Bran
 stetter":http://arapahoeteaparty.ning.com/profile/WBranstetter
END:VEVENT
END:VCALENDAR
