BEGIN:VCALENDAR
PRODID:NingEventWidget-v1
VERSION:2.0
METHOD:PUBLISH
BEGIN:VEVENT
UID:3186561:Event:48676
DTSTAMP:20210313T171917Z
SUMMARY:New Radio Show:  Wake Up with Randy Corporon (M-F, 5-7 a.m.) o
 n KLZ 560
DESCRIPTION:Arapahoe County Tea Party chairman Randy Corporon has been
  tapped to host a new program on KLZ 560 radio starting Monday, Januar
 y 6, 2014.  The program will air weekday mornings (M-F) between 5:00 
 and 7:00 a.m.\n\nRandy had some really good supporters call in for the
  first show January 6, 2014, and Marc Zarlengo was in studio for the s
 econd hour.  Check out Marc's web site OGRE eXposed:\n\nhttp://ogreex
 posed.org/\n\n\n “Wake Up with Randy Corporon”\n \nOn KLZ 560 AM
   “The Source”\nhttp://www.560thesource.com/\n \n Show can be hea
 rd along the front range of Colorado.   Out of range??  Just listen 
 on TuneIn Radio anywhere in the world!!\n\n\n\n***********************
 *\n\nUse the \"Listen\" button on the KLZ 560 web site listed above fo
 r computer connection to the show.\n\n**************************\n\n\n
 There is a Facebook events page for the debut program at:\n\nhttps://w
 ww.facebook.com/events/254703728026510/?source=1\n\nLeave your ideas f
 or future shows on this Facebook page if you use Facebook.  \n\nTune 
 in for more information.\n\nPodcasts will be coming.\n\nStudio line: 3
 03-477-5600.\n\n***********************************\n\nRandy undoubted
 ly will have lots of material to kick off his new program considering 
 Colorado legislature starts Wednesday and there is so much to do and t
 alk about.\n\n\n\nFor more information visit http://arapahoeteaparty.n
 ing.com/events/new-radio-show-wake-up-with-randy-corporon-m-f-5-7-a-m-
 on-klz-560
DTSTART:20140108T120000Z
DTEND:20140108T140000Z
CATEGORIES:"radio show"
LOCATION:\"KLZ 560 AM the source radio\"
WEBSITE:http://www.560thesource.com/
URL:http://www.560thesource.com/
CONTACT:
ORGANIZER:Randy  B. Corporon [posted by W. Branstetter]
ATTACH;FMTTYPE="image/jpeg":
ATTENDEE;ROLE=REQ-PARTICIPANT;PARTSTAT=ACCEPTED;RSVP=TRUE;CN="W. Brans
 tetter":http://arapahoeteaparty.ning.com/profile/WBranstetter
END:VEVENT
END:VCALENDAR
