BEGIN:VCALENDAR
PRODID:NingEventWidget-v1
VERSION:2.0
METHOD:PUBLISH
BEGIN:VEVENT
UID:3186561:Event:48651
DTSTAMP:20210313T171954Z
SUMMARY:New Radio Show:  Wake Up with Randy Corporon (M-F, 5-7 a.m.) o
 n KLZ 560
DESCRIPTION:Randy took Monday off to regroup and find his voice after 
 the Broncos game.  Hopefully, the voice will be better by Tuesday mor
 ning and he will tell everyone about the MLK festivities with Derrick 
 Wilburn and the American Conservatives of Color.  \n\n\nArapahoe Coun
 ty Tea Party chairman Randy Corporon has been tapped to host a new pro
 gram on KLZ 560 radio starting Monday, January 6, 2014.  The program 
 airs weekday mornings (M-F) between 5:00 and 7:00 a.m.  Look for more
  guests and callers every morning.  Randy will keep things lively whi
 le keeping you informed of events, legislative bills, candidates, and 
 other news.\n\nhttp://www.560thesource.com\n\nIf you are an early rise
 r or concluding a late night shift, tune in.\n\nRandy had some really 
 good supporters call in for the first show January 6, 2014, and Marc Z
 arlengo was in studio for the second hour.  Check out Marc's web site
  OGRE eXposed:\n\nhttp://ogreexposed.org/\n\nShow can be heard along t
 he front range of Colorado.  Out of range??  Just listen on TuneIn R
 adio anywhere in the world!! Use the \"Listen\" button on the KLZ 560 
 web site listed above for computer connection to the show.\n\n********
 ******************\n\n\nThere is a Facebook events page for the debut 
 program at:\n\nhttps://www.facebook.com/events/254703728026510/?source
 =1\n\nLeave your ideas for future shows on this Facebook page if you u
 se Facebook.  \n\nTune in for more information.\n\nPodcasts will be c
 oming.\n\nStudio line: 303-477-5600.\n\n******************************
 *****\n\nRandy undoubtedly will have lots of material to kick off his 
 new program considering Colorado legislature starts Wednesday and ther
 e is so much to do and talk about.\n\n***********************\n\nhttps
 ://www.facebook.com/WakeupKLZ\n\n\nFor more information visit http://a
 rapahoeteaparty.ning.com/events/new-radio-show-wake-up-with-randy-corp
 oron-m-f-5-7-a-m-on-klz-5-9
DTSTART:20140121T120000Z
DTEND:20140121T140000Z
CATEGORIES:"radio show"
LOCATION:\"KLZ 560 AM the source radio\"
WEBSITE:http://www.560thesource.com/
URL:http://www.560thesource.com/
CONTACT:
ORGANIZER:Randy  B. Corporon [posted by W. Branstetter]
ATTACH;FMTTYPE="image/jpeg":
ATTENDEE;ROLE=REQ-PARTICIPANT;PARTSTAT=ACCEPTED;RSVP=TRUE;CN="W. Brans
 tetter":http://arapahoeteaparty.ning.com/profile/WBranstetter
END:VEVENT
END:VCALENDAR
