BEGIN:VCALENDAR
PRODID:NingEventWidget-v1
VERSION:2.0
METHOD:PUBLISH
BEGIN:VEVENT
UID:3186561:Event:48648
DTSTAMP:20210313T172005Z
SUMMARY:New Radio Show:  Wake Up with Randy Corporon (M-F, 5-7 a.m.) o
 n KLZ 560
DESCRIPTION:Note that Ken Clark from Grassroots Radio Colorado will fi
 ll in Randy Monday morning.\n\nArapahoe County Tea Party chairman Rand
 y Corporon has been tapped to host a new program on KLZ 560 radio star
 ting Monday, January 6, 2014.  The program airs weekday mornings (M-F
 ) between 5:00 and 7:00 a.m.  Look for more guests and callers every 
 morning.  Randy will keep things lively while keeping you informed of
  events, legislative bills, candidates, and other news.\n\nhttp://www.
 560thesource.com\n\nIf you are an early riser or concluding a late nig
 ht shift, tune in.\n\nRandy had some really good supporters call in fo
 r the first show January 6, 2014, and Marc Zarlengo was in studio for 
 the second hour.  Check out Marc's web site OGRE eXposed:\n\nhttp://o
 greexposed.org/\n\nShow can be heard along the front range of Colorado
 .  Out of range??  Just listen on TuneIn Radio anywhere in the world
 !! Use the \"Listen\" button on the KLZ 560 web site listed above for 
 computer connection to the show.\n\n**************************\n\n\nTh
 ere is a Facebook events page for the debut program at:\n\nhttps://www
 .facebook.com/events/254703728026510/?source=1\n\nLeave your ideas for
  future shows on this Facebook page if you use Facebook.  \n\nTune in
  for more information.\n\nPodcasts will be coming.\n\nStudio line: 303
 -477-5600.\n\n***********************************\n\nRandy undoubtedly
  will have lots of material to kick off his new program considering Co
 lorado legislature starts Wednesday and there is so much to do and tal
 k about.\n\n***********************\n\nhttps://www.facebook.com/Wakeup
 KLZ\n\n\nFor more information visit http://arapahoeteaparty.ning.com/e
 vents/new-radio-show-wake-up-with-randy-corporon-m-f-5-7-a-m-on-klz-5-
 8
DTSTART:20140120T120000Z
DTEND:20140120T140000Z
CATEGORIES:"radio show"
LOCATION:\"KLZ 560 AM the source radio\"
WEBSITE:http://www.560thesource.com/
URL:http://www.560thesource.com/
CONTACT:
ORGANIZER:Randy  B. Corporon [posted by W. Branstetter]
ATTACH;FMTTYPE="image/jpeg":
ATTENDEE;ROLE=REQ-PARTICIPANT;PARTSTAT=ACCEPTED;RSVP=TRUE;CN="W. Brans
 tetter":http://arapahoeteaparty.ning.com/profile/WBranstetter
END:VEVENT
END:VCALENDAR
