BEGIN:VCALENDAR
PRODID:NingEventWidget-v1
VERSION:2.0
METHOD:PUBLISH
BEGIN:VEVENT
UID:3186561:Event:48709
DTSTAMP:20210313T174759Z
SUMMARY:New Radio Show:  Wake Up with Randy Corporon (M-F, 5-7 a.m.) o
 n KLZ 560
DESCRIPTION:Arapahoe County Tea Party chairman Randy Corporon has been
  tapped to host a new program on KLZ 560 radio starting Monday, Januar
 y 6, 2014. Â The program airs weekday mornings (M-F) between 5:00 and 
 7:00 a.m. Â Look for more guests and callers every morning. Â Randy wi
 ll keep things lively while keeping you informed of events, legislativ
 e bills, candidates, and other news.\n\nhttp://www.560thesource.com\n\
 nIf you are an early riser or concluding a late night shift, tune in.\
 n\nRandy had some really good supporters call in for the first show Ja
 nuary 6, 2014, and Marc Zarlengo was in studio for the second hour. Â 
 Check out Marc's web site OGRE eXposed:\n\nhttp://ogreexposed.org/\n\n
 Show can be heard along the front range of Colorado.Â  Out of range??Â
   Just listen on TuneIn Radio anywhere in the world!! Use the \"Listen
 \" button on the KLZ 560 web site listed above for computer connection
  to the show.\n\n**************************\n\n\nThere is a Facebook e
 vents page for the debut program at:\n\nhttps://www.facebook.com/event
 s/254703728026510/?source=1\n\nLeave your ideas for future shows on th
 is Facebook page if you use Facebook. Â \n\nTune in for more informati
 on.\n\nPodcasts will be coming.\n\nStudio line: 303-477-5600.\n\n*****
 ******************************\n\nRandy undoubtedly will have lots of 
 material to kick off his new program considering Colorado legislature 
 starts Wednesday and there is so much to do and talk about.\n\n*******
 ****************\n\nhttps://www.facebook.com/WakeupKLZ\n\n\nFor more i
 nformation visit http://arapahoeteaparty.ning.com/events/new-radio-sho
 w-wake-up-with-randy-corporon-m-f-5-7-a-m-on-klz-5-7
DTSTART:20140117T120000Z
DTEND:20140117T140000Z
CATEGORIES:"radio show"
LOCATION:\"KLZ 560 AM the source radio\"
WEBSITE:http://www.560thesource.com/
URL:http://www.560thesource.com/
CONTACT:
ORGANIZER:Randy  B. Corporon [posted by W. Branstetter]
ATTACH;FMTTYPE="image/jpeg":
ATTENDEE;ROLE=REQ-PARTICIPANT;PARTSTAT=ACCEPTED;RSVP=TRUE;CN="W. Brans
 tetter":http://arapahoeteaparty.ning.com/profile/WBranstetter
END:VEVENT
END:VCALENDAR
