BEGIN:VCALENDAR
PRODID:NingEventWidget-v1
VERSION:2.0
METHOD:PUBLISH
BEGIN:VEVENT
UID:3186561:Event:48599
DTSTAMP:20210313T182756Z
SUMMARY:New Radio Show:  Wake Up with Randy Corporon (M-F, 5-7 a.m.) o
 n KLZ 560
DESCRIPTION:Arapahoe County Tea Party chairman Randy Corporon has been
  tapped to host a new program on KLZ 560 radio starting Monday, Januar
 y 6, 2014.  The program will air weekday mornings (M-F) between 5:00 
 and 7:00 a.m.\n\nhttp://www.560thesource.com\n\nRandy had some really 
 good supporters call in for the first show January 6, 2014, and Marc Z
 arlengo was in studio for the second hour.  Check out Marc's web site
  OGRE eXposed:\n\nhttp://ogreexposed.org/\n\nShow can be heard along t
 he front range of Colorado.  Out of range??  Just listen on TuneIn R
 adio anywhere in the world!! Use the \"Listen\" button on the KLZ 560 
 web site listed above for computer connection to the show.\n\n********
 ******************\n\n\nThere is a Facebook events page for the debut 
 program at:\n\nhttps://www.facebook.com/events/254703728026510/?source
 =1\n\nLeave your ideas for future shows on this Facebook page if you u
 se Facebook.  \n\nTune in for more information.\n\nPodcasts will be c
 oming.\n\nStudio line: 303-477-5600.\n\n******************************
 *****\n\nRandy undoubtedly will have lots of material to kick off his 
 new program considering Colorado legislature starts Wednesday and ther
 e is so much to do and talk about.\n\n\n\nFor more information visit h
 ttp://arapahoeteaparty.ning.com/events/new-radio-show-wake-up-with-ran
 dy-corporon-m-f-5-7-a-m-on-klz-5-2
DTSTART:20140110T120000Z
DTEND:20140110T140000Z
CATEGORIES:"radio show"
LOCATION:\"KLZ 560 AM the source radio\"
WEBSITE:http://www.560thesource.com/
URL:http://www.560thesource.com/
CONTACT:
ORGANIZER:Randy  B. Corporon [posted by W. Branstetter]
ATTACH;FMTTYPE="image/jpeg":
ATTENDEE;ROLE=REQ-PARTICIPANT;PARTSTAT=ACCEPTED;RSVP=TRUE;CN="W. Brans
 tetter":http://arapahoeteaparty.ning.com/profile/WBranstetter
END:VEVENT
END:VCALENDAR
