BEGIN:VCALENDAR
PRODID:NingEventWidget-v1
VERSION:2.0
METHOD:PUBLISH
BEGIN:VEVENT
UID:3186561:Event:40020
DTSTAMP:20210313T174011Z
SUMMARY:Movie with speaker:  \"Occupied Unmasked\" with Anita Moncrief
  in Colo. Springs
DESCRIPTION:This is a one-time show according to the event announcemen
 t.  The movie \"Occupied Unmasked\" has been playing at only the AMC 
 Highlands Ranch theater in the Denver metro area for a little over a w
 eek.  Anita Moncrief is one of the people in the movie explaining som
 e of the aspects of the \"Occupy Wall Street movement\" that was filme
 d and displayed all across the country. \n\nhttp://www.mom4freedom.co
 m/2012/09/28/see-occupy-unmasked-and-meet-anita-moncrief-in-colorado-s
 prings-friday-105/\n\nEvent Details\nFriday, October 5th\n1:00 – 4:0
 0pm\nStargazers Theatre and Event Center\n10 South Parkside Drive\nCol
 orado Springs, CO  80910\nDoors open at 12:00pm.\nFilm begins at 1:00
 .\nQ&A with Anita MonCrief begins immediately after conclusion of the 
 film.\nCost\n$5.00 Cash only at the door\nChecks and credit cards not 
 accepted.\n \nhttp://www.occupyunmasked.com/\n\nThis would be a great
  event to take in Friday afternoon.  If anyone is interested in devel
 oping carpooling, please post a comment.\nNote that Monday, October 1,
  Greta had an interview for \"On the Record\" on FOX News as reported 
 on Breitbart.com:\n\nhttp://www.breitbart.com/Breitbart-TV/2012/10/02/
 WATCH-Occupy-Unmasked-In-Theaters-Online\n\n\n\nFor more information v
 isit http://arapahoeteaparty.ning.com/events/movie-with-speaker-occupi
 ed-unmasked-with-anita-moncrief-in-colo-
DTSTART:20121005T180000Z
DTEND:20121005T220000Z
CATEGORIES:movie, speaker
LOCATION:Stargazers Theatre
WEBSITE:http://www.mom4freedom.com/2012/09/28/see-occupy-unmasked-and-
 meet-anita-moncrief-in-colorado-springs-friday-105/
URL:http://www.mom4freedom.com/2012/09/28/see-occupy-unmasked-and-meet
 -anita-moncrief-in-colorado-springs-friday-105/
CONTACT:
ORGANIZER:posted by W. Branstetter
ATTACH;FMTTYPE="image/jpeg":
ATTENDEE;ROLE=REQ-PARTICIPANT;PARTSTAT=ACCEPTED;RSVP=TRUE;CN="W. Brans
 tetter":http://arapahoeteaparty.ning.com/profile/WBranstetter
END:VEVENT
END:VCALENDAR
