BEGIN:VCALENDAR
PRODID:NingEventWidget-v1
VERSION:2.0
METHOD:PUBLISH
BEGIN:VEVENT
UID:3186561:Event:56184
DTSTAMP:20210313T172006Z
SUMMARY:Movie Reminder:  \"13 Hours: The Secret Soldiers of Benghazi\"
DESCRIPTION:\"13 Hours\" has been in theaters for a couple of weeks. Â
  Be sure to take a friend with you because more people should know wha
 t this small group did to save the Americans in Benghazi. Â Read the b
 ook also.\n\nMark Steyn's review:\nhttp://www.steynonline.com/7450/13-
 hours\n\nReported in the article is the expected release date of Janua
 ry 15, 2016, for this movie headed to theaters. Â Trailer included wit
 h article.\n\nhttp://www.breitbart.com/big-hollywood/2015/10/15/michae
 l-bays-benghazi-movie-damage-hillarys-campaign-just-days-iowa-caucuses
 /\n\nAndy Peth's review written for \"The Party of Choice\" web site:\
 n\nhttp://www.thepartyofchoice.com/movie-reviews/choice-movie-reviews-
 13-hours-the-secret-soldiers-of-benghazi-by-andy-peth\n\nSee also \"Fo
 r the Record\" from The Blaze for this short video segment with \"Anni
 e\" on the subject of Benghazi:\n\nhttp://www.theblaze.com/stories/201
 6/01/18/for-the-record-the-calls-for-help-that-went-unanswered-before-
 13-hours/\n\n\n\nFor more information visit http://arapahoeteaparty.ni
 ng.com/events/movie-reminder-13-hours-the-secret-soldiers-of-benghazi-
 2
DTSTART:20160207T070000Z
DTEND:20160212T065900Z
CATEGORIES:movie
LOCATION:theaters
WEBSITE:http://www.thirteenhoursmovie.com/
URL:http://www.thirteenhoursmovie.com/
CONTACT:
ORGANIZER:posted by W. Branstetter
ATTACH;FMTTYPE="image/jpeg":
ATTENDEE;ROLE=REQ-PARTICIPANT;PARTSTAT=ACCEPTED;RSVP=TRUE;CN="W. Brans
 tetter":http://arapahoeteaparty.ning.com/profile/WBranstetter
END:VEVENT
END:VCALENDAR
