BEGIN:VCALENDAR
PRODID:NingEventWidget-v1
VERSION:2.0
METHOD:PUBLISH
BEGIN:VEVENT
UID:3186561:Event:34262
DTSTAMP:20210313T171633Z
SUMMARY:Movie:  Red Tails at AMC Highlands Ranch with RMBTP
DESCRIPTION:Rocky Mountain Black Tea Party will be attending and suppo
 rting the movie \"Red Tails\", a movie about the Tuskegee airmen.  F
 olks from Arapahoe County Tea Party and other grassroots groups are pl
 anning to support and attend as well.\n \nThe event announcement says
  6:00-9:00 p.m. and a gathering at C.B. Potts after.  It looks like t
 he evening show at AMC Highlands Ranch starts at 7:30 p.m. and is 2 h
 ours (PG-13).  Visiting after the movie sounds like a great idea.  H
 ope to see you there.\n \nevent announcement:\nhttps://www.facebook.c
 om/Busse4Colorado?sk=wall&fb_source=message#!/events/175905375842526/\
 n \ntheater:\nhttp://www.amctheatres.com/HighlandsRanch/\nmap\nhttp:/
 /g.co/maps/6yzzd\n \nRed Tails\nhttp://redtails2012.com/\n \nFaceboo
 k page for Arapahoe County Tea Party is listed as \"Arap Tea-Party\"\n
  \n \n\nFor more information visit http://arapahoeteaparty.ning.com/
 events/movie-red-tails-at-amc-highlands-ranch-with-rmbtp
DTSTART:20120121T023000Z
DTEND:20120121T050000Z
CATEGORIES:movie
LOCATION:AMC Highlands Ranch theaters
WEBSITE:http://g.co/maps/6yzzd
URL:http://g.co/maps/6yzzd
CONTACT:
ORGANIZER:posted by W. Branstetter
ATTACH;FMTTYPE="image/jpeg":
ATTENDEE;ROLE=REQ-PARTICIPANT;PARTSTAT=ACCEPTED;RSVP=TRUE;CN="W. Brans
 tetter":http://arapahoeteaparty.ning.com/profile/WBranstetter
END:VEVENT
END:VCALENDAR
