BEGIN:VCALENDAR
PRODID:NingEventWidget-v1
VERSION:2.0
METHOD:PUBLISH
BEGIN:VEVENT
UID:3186561:Event:35266
DTSTAMP:20210313T173432Z
SUMMARY:Movie (One Night Only):  \"Monumental:  In Search of America's
  National Treasure\"
DESCRIPTION:The Kirk Cameron movie (documentary?), \"Monumental:  In
  Search of America's National Treasure,\" will be simulcast to over 50
 0 theaters for one show on Tuesday, March 27.  Show time in Colorado
  is 5:30 p.m.  For theater locations, tickets, trailer, and other inf
 ormation:\n \nhttp://monumentalmovie.com/\n \nHave you ever heard of
  “National Monument to the Forefathers. Erected by a grateful people
  in remembrance of their labors, sacrifices and sufferings for the cau
 se of civil and religious liberty”?\n \nphoto:\nhttp://www.visit-pl
 ymouth.com/forefathers.htm\n \nexplanation of monument:\nhttp://histo
 ricaldigression.com/tag/national-monument-to-the-forefathers/\n \nhtt
 p://www.masshistory.com/national-forefathers-monument\n \nan amazing 
 list:\nhttp://wiki.genealogytoday.com/The_National_Monument_to_the_For
 efathers_Corner-Stone_Contents_1863_Article.html\n \nhttp://www.youtu
 be.com/watch?v=TnTvJxdoKwQ&feature=colike\n \n \n*******************
 **********\nJoin others in supporting movies that are different from t
 he typical Hollywood fair.  Many rely heavily on news of releases thr
 ough the followers, so please share.\n \nIf someone has ideas for mee
 ting after the movie, please post in the comments section.\n \n \n 
 \n \n \n \n\nFor more information visit http://arapahoeteaparty.nin
 g.com/events/movie-one-night-only-monumental-in-search-of-america-s-na
 tional-t
DTSTART:20120327T233000Z
DTEND:20120328T023000Z
CATEGORIES:movie
LOCATION:various theaters
WEBSITE:http://monumentalmovie.com/
URL:http://monumentalmovie.com/
CONTACT:
ORGANIZER:posted by W. Branstetter
ATTACH;FMTTYPE="image/jpeg":
ATTENDEE;ROLE=REQ-PARTICIPANT;PARTSTAT=ACCEPTED;RSVP=TRUE;CN="Victoria
  Anne Livingston":http://arapahoeteaparty.ning.com/profile/VictoriaAnn
 eLivingston
ATTENDEE;ROLE=REQ-PARTICIPANT;PARTSTAT=ACCEPTED;RSVP=TRUE;CN="Lisa Gun
 n":http://arapahoeteaparty.ning.com/profile/LisaGunn
ATTENDEE;ROLE=REQ-PARTICIPANT;PARTSTAT=ACCEPTED;RSVP=TRUE;CN="Gbolahan
  Lasaki":http://arapahoeteaparty.ning.com/profile/GbolahanLasaki
ATTENDEE;ROLE=REQ-PARTICIPANT;PARTSTAT=ACCEPTED;RSVP=TRUE;CN="W. Brans
 tetter":http://arapahoeteaparty.ning.com/profile/WBranstetter
ATTENDEE;ROLE=REQ-PARTICIPANT;PARTSTAT=TENTATIVE;RSVP=TRUE;CN="Fredric
 k Lindner":http://arapahoeteaparty.ning.com/profile/FredrickDLindner
ATTENDEE;ROLE=REQ-PARTICIPANT;PARTSTAT=TENTATIVE;RSVP=TRUE;CN="M Lucy 
 Schell":http://arapahoeteaparty.ning.com/profile/MLucySchell
ATTENDEE;ROLE=REQ-PARTICIPANT;PARTSTAT=TENTATIVE;RSVP=TRUE;CN="Steve A
 dams":http://arapahoeteaparty.ning.com/profile/SteveAdams
END:VEVENT
END:VCALENDAR
