BEGIN:VCALENDAR
PRODID:NingEventWidget-v1
VERSION:2.0
METHOD:PUBLISH
BEGIN:VEVENT
UID:3186561:Event:53733
DTSTAMP:20210313T180105Z
SUMMARY:Movie:  \"Little Boy\" (possible interest?)
DESCRIPTION:In theaters starting April 24 is \"Little Boy\" with a new
  young actor and a lot of faith.\n\nhttp://littleboymovie.com/\n\nPeop
 le behind the movie were on the Glenn Beck program on TheBlazeTV on Ma
 rch 2, 2015.  It is a movie for the family.\n\nConsider checking it o
 ut at your local theaters.\n\n\nFor more information visit http://arap
 ahoeteaparty.ning.com/events/movie-little-boy-possible-interest
DTSTART:20150424T060000Z
DTEND:20150501T055900Z
CATEGORIES:movie
LOCATION:theaters
WEBSITE:http://littleboymovie.com/
URL:http://littleboymovie.com/
CONTACT:
ORGANIZER:posted by W. Branstetter
ATTACH;FMTTYPE="image/jpeg":
ATTENDEE;ROLE=REQ-PARTICIPANT;PARTSTAT=ACCEPTED;RSVP=TRUE;CN="W. Brans
 tetter":http://arapahoeteaparty.ning.com/profile/WBranstetter
END:VEVENT
END:VCALENDAR
