BEGIN:VCALENDAR
PRODID:NingEventWidget-v1
VERSION:2.0
METHOD:PUBLISH
BEGIN:VEVENT
UID:3186561:Event:58803
DTSTAMP:20210313T172405Z
SUMMARY:Movie (in theaters):  \"Hillary's America: The Secret History 
 of the Democrat Party\" by Dinesh D'Souza [see also book]
DESCRIPTION:Time to see the latest Dinesh D'Souza movie \"Hillary's Am
 erica\" in theaters now.  It is important to support movies like this
  opening week.  Take a friend or two, or invite a neighbor.\n\nhttp:/
 /hillarysamericathemovie.com/\n\nTheaters and times have been added th
 is week.\n\nThe book, same title, is available in all formats so get a
  copy of that as well.  The audible version is quite good and worth a
  listen. \n\n\n\nFor more information visit http://arapahoeteaparty.n
 ing.com/events/movie-in-theaters-hillary-s-america-the-secret-history-
 of-the
DTSTART:20160729T060000Z
DTEND:20160805T055900Z
CATEGORIES:movie
LOCATION:theater near you
WEBSITE:http://hillarysamericathemovie.com/
URL:http://hillarysamericathemovie.com/
CONTACT:
ORGANIZER:posted by W. Branstetter
ATTACH;FMTTYPE="image/jpeg":
ATTENDEE;ROLE=REQ-PARTICIPANT;PARTSTAT=ACCEPTED;RSVP=TRUE;CN="W. Brans
 tetter":http://arapahoeteaparty.ning.com/profile/WBranstetter
END:VEVENT
END:VCALENDAR
