BEGIN:VCALENDAR
PRODID:NingEventWidget-v1
VERSION:2.0
METHOD:PUBLISH
BEGIN:VEVENT
UID:3186561:Event:58965
DTSTAMP:20210313T183151Z
SUMMARY:Movie (Documentary):  \"The Abolitionists Movie\" (against chi
 ld trafficking)--One Night Only
DESCRIPTION:Monday, May 16, 2016, for one night only this documentary 
 follows a special group endeavoring to impact the \"child trafficking\
 " trade in various countries.  This one is for the rescue of the chil
 dren.\n\nSee the trailer and order tickets at:\n\nhttp://theabolitioni
 stsmovie.com/\n\n\n\nFor more information visit http://arapahoeteapart
 y.ning.com/events/movie-documentary-the-abolitionists-movie-against-ch
 ild-trafficki
DTSTART:20160517T013000Z
DTEND:20160517T034500Z
CATEGORIES:movie
LOCATION:limited theaters
WEBSITE:http://theabolitionistsmovie.com/
URL:http://theabolitionistsmovie.com/
CONTACT:
ORGANIZER:posted by W. Branstetter
ATTACH;FMTTYPE="image/jpeg":
ATTENDEE;ROLE=REQ-PARTICIPANT;PARTSTAT=ACCEPTED;RSVP=TRUE;CN="W. Brans
 tetter":http://arapahoeteaparty.ning.com/profile/WBranstetter
END:VEVENT
END:VCALENDAR
