BEGIN:VCALENDAR
PRODID:NingEventWidget-v1
VERSION:2.0
METHOD:PUBLISH
BEGIN:VEVENT
UID:3186561:Event:58892
DTSTAMP:20210313T183204Z
SUMMARY:Movie:  \"Clinton Cash\" [Free Digital Access July 23 and July
  24]
DESCRIPTION:The 65-minute documentary based on Peter Schweizer's book 
 \"Clinton Cash\" does not have the budget for advertising and theaters
  according to the following article:\n\nhttp://www.weeklystandard.com/
 hillary-and-bill-clintons-story-of-money-grubbing-and-sleaze/article/2
 003412\n\nThe movie will be available through the Breitbart (.com) web
  site July 23 and July 24 but people must submit an e-mail, then confi
 rm, at which a link can be delivered to see the movie.  There is an a
 dvertisement on the right side of the Breitbart home page with details
 .\n\nhttp://www.breitbart.com/\n\nSchedule for \"Clinton Cash\" (65 mi
 nutes):\n\nSaturday, July 23 at 6:00 p.m. MT (8:00 p.m. ET)\n\nSunday,
  July 24 at noon MT and 6:00 p.m. MT\n\nWatch for information how to g
 et this movie more widely available.\n\nBe sure your friends learn abo
 ut this movie.\n\n\n\nFor more information visit http://arapahoeteapar
 ty.ning.com/events/movie-clinton-cash-free-digital-access-july-23-and-
 july-24-1
DTSTART:20160725T000000Z
DTEND:20160725T011500Z
CATEGORIES:movie
LOCATION:computer (digital format)
WEBSITE:http://www.breitbart.com/
URL:http://www.breitbart.com/
CONTACT:
ORGANIZER:posted by W. Branstetter
ATTACH;FMTTYPE="image/jpeg":
ATTENDEE;ROLE=REQ-PARTICIPANT;PARTSTAT=ACCEPTED;RSVP=TRUE;CN="W. Brans
 tetter":http://arapahoeteaparty.ning.com/profile/WBranstetter
END:VEVENT
END:VCALENDAR
