BEGIN:VCALENDAR
PRODID:NingEventWidget-v1
VERSION:2.0
METHOD:PUBLISH
BEGIN:VEVENT
UID:3186561:Event:57678
DTSTAMP:20210313T183219Z
SUMMARY:Movie:  \"Climate Hustle\" (one night only in theaters)
DESCRIPTION:Get your tickets via the \"Climate Hustle\" movie website 
 for this one-night event at select theaters.  Many theaters listed ac
 ross Colorado and other states.\n\nhttp://www.climatehustlemovie.com/\
 n\nThere is supposed to be a short panel discussion broadcast followin
 g the movie.\n\nReportedly there is a lot of humor to this \"climate s
 keptics\" documentary.  Learn more about Marc Morano at Climate Depot
  (.com)\n\n\n\nFor more information visit http://arapahoeteaparty.ning
 .com/events/movie-climate-hustle-one-night-only-in-theaters
DTSTART:20160503T010000Z
DTEND:20160503T030000Z
CATEGORIES:movie
LOCATION:select theaters
WEBSITE:http://www.climatehustlemovie.com/
URL:http://www.climatehustlemovie.com/
CONTACT:
ORGANIZER:posted by W. Branstetter
ATTACH;FMTTYPE="image/jpeg":
ATTENDEE;ROLE=REQ-PARTICIPANT;PARTSTAT=ACCEPTED;RSVP=TRUE;CN="W. Brans
 tetter":http://arapahoeteaparty.ning.com/profile/WBranstetter
END:VEVENT
END:VCALENDAR
