BEGIN:VCALENDAR
PRODID:NingEventWidget-v1
VERSION:2.0
METHOD:PUBLISH
BEGIN:VEVENT
UID:3186561:Event:11891
DTSTAMP:20210313T171321Z
SUMMARY:Movie:  Atlas Shrugged Part 1 [opening day grassroots gatherin
 gs]
DESCRIPTION:Opening day of Atlas Shrugged Part 1 is going to be celebr
 ated by some of the grassroots people at the Westminster and Englewood
  theaters and the Aurora location maybe.  There are now 5 locations i
 n Colorado, all in the greater metro area. \nhttp://www.atlasshrugged
 part1.com/\n \nFilm clips and news:\nhttp://www.atlasshruggedpart1.co
 m/about#links\n \nTheater locations and \"Demand\":\nhttp://www.atlas
 shruggedpart1.com/theaters\n \nSubmit \"I Am John Galt\" video clips:
 \nhttp://www.atlasshruggedpart1.com/IAmJohnGalt\n \n \nGrassroots Ra
 dio Colorado is putting together a remote broadcast for their 5:00 to
  7:00 p.m. drive home show followed by the movie and then gathering fo
 r a review after.  Their plan is for the AMC Westminster Promenade t
 heaters.  Please listen to KLZ 560 for details or watch their Faceboo
 k page. \n \nMatt Arnold of Clear the Bench inquired on Facebook an
 d had a lot of interest for a gathering at the south metro location U
 nited Artist theater probably the 7:15 p.m. show and has learned tha
 t Leadership Program of the Rockies (LPR) had a similar idea.  Watch
  for info on location for meeting before or after for drinks?\n \nUni
 ted Artist\n8141 East Arapahoe Road\nEnglewood, Colorado\n \nAnother 
 location for a gathering may be at:\nCentury Cinema [at Aurora Mall]\n
 14300 East Alameda Avenue\nAurora, Colorado  80012\nrefer to theaters
  link for an on-line purchase of tickets and map\nhttp://www.atlasshru
 ggedpart1.com/theaters#Colorado\n \nNote show times: \n  -- Aurora:
        12:30   2:55   5:20   7:45   10:10\n  -- Englewo
 od:  1:30   7:15   10:00  \n \nSome of us are cconsidering gat
 hering at a later date for a show, probably at the Aurora theater.  P
 lease comment below if you are interested.\n\nFor more information vis
 it http://arapahoeteaparty.ning.com/events/movie-atlas-shrugged-part-1
DTSTART:20110415T230000Z
DTEND:20110416T040000Z
CATEGORIES:movie
LOCATION:Westminster, Englewood, possibly Aurora
WEBSITE:
URL:
CONTACT:
ORGANIZER:posted by Wilma
ATTACH;FMTTYPE="image/jpeg":
ATTENDEE;ROLE=REQ-PARTICIPANT;PARTSTAT=ACCEPTED;RSVP=TRUE;CN="John Fri
 sbee":http://arapahoeteaparty.ning.com/profile/JohnFrisbee
ATTENDEE;ROLE=REQ-PARTICIPANT;PARTSTAT=ACCEPTED;RSVP=TRUE;CN="Cathy Mi
 tchell":http://arapahoeteaparty.ning.com/profile/CathyMitchell
ATTENDEE;ROLE=REQ-PARTICIPANT;PARTSTAT=ACCEPTED;RSVP=TRUE;CN="Randy B 
 Corporon":http://arapahoeteaparty.ning.com/profile/RandyBCorporon
ATTENDEE;ROLE=REQ-PARTICIPANT;PARTSTAT=ACCEPTED;RSVP=TRUE;CN="W. Brans
 tetter":http://arapahoeteaparty.ning.com/profile/WBranstetter
ATTENDEE;ROLE=REQ-PARTICIPANT;PARTSTAT=TENTATIVE;RSVP=TRUE;CN="jerry w
 ":http://arapahoeteaparty.ning.com/profile/jerryw
END:VEVENT
END:VCALENDAR
