BEGIN:VCALENDAR
PRODID:NingEventWidget-v1
VERSION:2.0
METHOD:PUBLISH
BEGIN:VEVENT
UID:3186561:Event:38372
DTSTAMP:20210313T172227Z
SUMMARY:Movie:  \"2016:  Obama's America\"
DESCRIPTION:The movie \"2016:  Obama's America\" is scheduled to open
  nationwide on this date.  The movie is narrated by Dinesh D'Souza, p
 resident of Kings College, who was born in India and grew up in an env
 ironment of \"anti-colonialism.\"  Mr. D'Souza is the author of The R
 oots of Obama's Rage.\n \nhttp://www.amazon.com/Roots-Obamas-Rage-Din
 esh-DSouza/dp/1596982764/ref=sr_1_1?s=books&ie=UTF8&qid=1342307900&sr=
 1-1&keywords=dinesh+d%27souza+the+roots+of+obama%27s+rage\n \nA trail
 er for the movie is available at:  http://2016themovie.com/\n \nIf y
 ou connect with the Facebook page, there are daily pictorial reminders
  that the movie is out on July 27, 2012.\n \nhttp://2016themovie.com/
 connect/\n \nThe movie opened July 13 in Houston, Texas.  Comments o
 n the opening include:\n \nhttp://www.texasgopvote.com/issues/stop-bi
 g-government/2016-obama-s-america-go-see-it-yourself-004431\n \nhttp:
 //www.heraldsun.com.au/news/film-shows-obamas-half-brother-in-slum/sto
 ry-e6frf7jo-1226423070057\n \nFriday, GBTV.com aired an interview tha
 t Glenn Beck had with Dinesh D'Souza after showing the film to a small
  audience.  The Blaze has an article with video segments:\n \nhttp:/
 /www.theblaze.com/stories/2016-obama-filmmaker-tells-beck-about-the-ro
 ots-of-obamas-anti-colonialism/\n \nThe movie was one of the movies a
 vailable for viewing at the Western Conservative Summit that was held 
 in Denver, June 29 to July 1.  If anyone saw the movie there, please 
 offer some comments.\n \nAs local information becomes available this 
 post will be updated.\n\n\n\n\nFor more information visit http://arapa
 hoeteaparty.ning.com/events/movie-2016-obama-s-america
DTSTART:20120727T060000Z
DTEND:20120801T055900Z
CATEGORIES:movie
LOCATION:nationwide
WEBSITE:http://2016themovie.com/
URL:http://2016themovie.com/
CONTACT:
ORGANIZER:posted by W. Branstetter
ATTACH;FMTTYPE="image/jpeg":
ATTENDEE;ROLE=REQ-PARTICIPANT;PARTSTAT=TENTATIVE;RSVP=TRUE;CN="W. Bran
 stetter":http://arapahoeteaparty.ning.com/profile/WBranstetter
END:VEVENT
END:VCALENDAR
