BEGIN:VCALENDAR
PRODID:NingEventWidget-v1
VERSION:2.0
METHOD:PUBLISH
BEGIN:VEVENT
UID:3186561:Event:38129
DTSTAMP:20210313T171708Z
SUMMARY:Movie:  \"2016:  Obama's America\"
DESCRIPTION:Still watching for release dates and locations.\n \nThe m
 ovie \"2016:  Obama's America\" is scheduled to open nationwide on th
 is date.  The movie is narrated by Dinesh D'Souza, president of Kings
  College, who was born in India and grew up in an environment of \"ant
 i-colonialism.\"  Mr. D'Souza is the author of The Roots of Obama's R
 age.\n \nhttp://www.amazon.com/Roots-Obamas-Rage-Dinesh-DSouza/dp/159
 6982764/ref=sr_1_1?s=books&ie=UTF8&qid=1342307900&sr=1-1&keywords=dine
 sh+d%27souza+the+roots+of+obama%27s+rage\n \nA trailer for the movie 
 is available at:  http://2016themovie.com/\n \nIf you connect with t
 he Facebook page, there are daily pictorial reminders that the movie i
 s out on July 27, 2012.\n \nhttp://2016themovie.com/connect/\n \nThe
  movie opened July 13 in Houston, Texas.  Comments on the opening inc
 lude:\n \nhttp://www.texasgopvote.com/issues/stop-big-government/2016
 -obama-s-america-go-see-it-yourself-004431\n \nhttp://www.heraldsun.c
 om.au/news/film-shows-obamas-half-brother-in-slum/story-e6frf7jo-12264
 23070057\n \nFriday, GBTV.com aired an interview that Glenn Beck had 
 with Dinesh D'Souza after showing the film to a small audience.  The 
 Blaze has an article with video segments:\n \nhttp://www.theblaze.com
 /stories/2016-obama-filmmaker-tells-beck-about-the-roots-of-obamas-ant
 i-colonialism/\n \nThe movie was one of the movies available for view
 ing at the Western Conservative Summit that was held in Denver, June 2
 9 to July 1.  If anyone saw the movie there, please offer some commen
 ts.\n \nAs local information becomes available this post will be upda
 ted.\n\n*********************\nThe movie will be available in the Colo
 rado Springs and Pueblo theaters on August 17.\n *********************
 *\n\nThe dates that the movie will be in the theaters is only estimate
 d through August 30--please check the theater schedules because they m
 ay cut this short at any time. \n \nSee comments below.\n \nNote (0
 9/11/2012):  Some of the theaters will not continue the movie into th
 e next week so be sure to check the listings for the individual theate
 rs. \n \nThis article indicates responses from Dinesh D'Souza in res
 ponse to charges leveled by the president's campaign. \nhttp://www.th
 eblaze.com/stories/2016-obamas-america-filmmaker-responds-to-president
 s-attacks-i-think-they-are-scared-and-they-have-a-reason-to-be-scared/
 #\n \n\nFor more information visit http://arapahoeteaparty.ning.com/e
 vents/movie-2016-obama-s-america-1
DTSTART:20120912T060000Z
DTEND:20120921T055900Z
CATEGORIES:movie
LOCATION:expanded release
WEBSITE:http://2016themovie.com/
URL:http://2016themovie.com/
CONTACT:
ORGANIZER:posted by W. Branstetter
ATTACH;FMTTYPE="image/jpeg":
ATTENDEE;ROLE=REQ-PARTICIPANT;PARTSTAT=ACCEPTED;RSVP=TRUE;CN="W. Brans
 tetter":http://arapahoeteaparty.ning.com/profile/WBranstetter
ATTENDEE;ROLE=REQ-PARTICIPANT;PARTSTAT=ACCEPTED;RSVP=TRUE;CN="Lisa G S
 pear":http://arapahoeteaparty.ning.com/profile/LisaGSpear
ATTENDEE;ROLE=REQ-PARTICIPANT;PARTSTAT=ACCEPTED;RSVP=TRUE;CN="Kathy Ab
 rams":http://arapahoeteaparty.ning.com/profile/KathyAbrams
END:VEVENT
END:VCALENDAR
