BEGIN:VCALENDAR
PRODID:NingEventWidget-v1
VERSION:2.0
METHOD:PUBLISH
BEGIN:VEVENT
UID:3186561:Event:55223
DTSTAMP:20210313T175618Z
SUMMARY:Movie:  \"13 Hours: The Secret Soldiers of Benghazi\"
DESCRIPTION:Reported in the article is the expected release date of Ja
 nuary 15, 2016, for this movie headed to theaters.  Trailer included 
 with article.\n\nhttp://www.breitbart.com/big-hollywood/2015/10/15/mic
 hael-bays-benghazi-movie-damage-hillarys-campaign-just-days-iowa-caucu
 ses/\n\n\n\nFor more information visit http://arapahoeteaparty.ning.co
 m/events/movie-13-hours-the-secret-soldiers-of-benghazi
DTSTART:20160115T070000Z
DTEND:20160116T065900Z
CATEGORIES:movie
LOCATION:theaters
WEBSITE:
URL:
CONTACT:
ORGANIZER:posted by W. Branstetter
ATTACH;FMTTYPE="image/jpeg":
ATTENDEE;ROLE=REQ-PARTICIPANT;PARTSTAT=ACCEPTED;RSVP=TRUE;CN="W. Brans
 tetter":http://arapahoeteaparty.ning.com/profile/WBranstetter
END:VEVENT
END:VCALENDAR
