BEGIN:VCALENDAR
PRODID:NingEventWidget-v1
VERSION:2.0
METHOD:PUBLISH
BEGIN:VEVENT
UID:3186561:Event:55976
DTSTAMP:20210313T172756Z
SUMMARY:Movie:  \"13 Hours: The Secret Soldiers of Benghazi\"
DESCRIPTION:Reported in the article is the expected release date of Ja
 nuary 15, 2016, for this movie headed to theaters.  Trailer included 
 with article.\n\nhttp://www.breitbart.com/big-hollywood/2015/10/15/mic
 hael-bays-benghazi-movie-damage-hillarys-campaign-just-days-iowa-caucu
 ses/\n\nAndy Peth's review written for \"The Party of Choice\" web sit
 e:\n\nhttp://www.thepartyofchoice.com/movie-reviews/choice-movie-revie
 ws-13-hours-the-secret-soldiers-of-benghazi-by-andy-peth\n\nSee also \
 "For the Record\" from The Blaze for this short video segment with \"A
 nnie\" on the subject of Benghazi:\n\nhttp://www.theblaze.com/stories/
 2016/01/18/for-the-record-the-calls-for-help-that-went-unanswered-befo
 re-13-hours/\n\n\n\nFor more information visit http://arapahoeteaparty
 .ning.com/events/movie-13-hours-the-secret-soldiers-of-benghazi-2
DTSTART:20160116T070000Z
DTEND:20160122T065900Z
CATEGORIES:movie
LOCATION:theaters
WEBSITE:http://www.thirteenhoursmovie.com/
URL:http://www.thirteenhoursmovie.com/
CONTACT:
ORGANIZER:posted by W. Branstetter
ATTACH;FMTTYPE="image/jpeg":
ATTENDEE;ROLE=REQ-PARTICIPANT;PARTSTAT=ACCEPTED;RSVP=TRUE;CN="W. Brans
 tetter":http://arapahoeteaparty.ning.com/profile/WBranstetter
END:VEVENT
END:VCALENDAR
