BEGIN:VCALENDAR
PRODID:NingEventWidget-v1
VERSION:2.0
METHOD:PUBLISH
BEGIN:VEVENT
UID:3186561:Event:55630
DTSTAMP:20210313T180321Z
SUMMARY:Movie:  \"13 Hours: The Secret Soldiers of Benghazi\"
DESCRIPTION:Reported in the article is the expected release date of Ja
 nuary 15, 2016, for this movie headed to theaters.  Trailer included 
 with article.\n\nhttp://www.breitbart.com/big-hollywood/2015/10/15/mic
 hael-bays-benghazi-movie-damage-hillarys-campaign-just-days-iowa-caucu
 ses/\n\nThere is a long list of Denver metro area theaters that will h
 ave the movie \"13 Hours\" starting 7:00 p.m. MT Thursday, January 14,
  2016.\n\n\n\nFor more information visit http://arapahoeteaparty.ning.
 com/events/movie-13-hours-the-secret-soldiers-of-benghazi-1
DTSTART:20160115T020000Z
DTEND:20160115T073000Z
CATEGORIES:movie
LOCATION:theaters
WEBSITE:http://www.thirteenhoursmovie.com/
URL:http://www.thirteenhoursmovie.com/
CONTACT:
ORGANIZER:posted by W. Branstetter
ATTACH;FMTTYPE="image/jpeg":
ATTENDEE;ROLE=REQ-PARTICIPANT;PARTSTAT=ACCEPTED;RSVP=TRUE;CN="W. Brans
 tetter":http://arapahoeteaparty.ning.com/profile/WBranstetter
END:VEVENT
END:VCALENDAR
