BEGIN:VCALENDAR
PRODID:NingEventWidget-v1
VERSION:2.0
METHOD:PUBLISH
BEGIN:VEVENT
UID:3186561:Event:19871
DTSTAMP:20210313T181623Z
SUMMARY:Monthly Meeting with SOS Scott Gessler and Ryan Frazier
DESCRIPTION:At the last meeting (June 7), we cut the time too close fo
 r Andy Peth's presentation \"The Party of Choice\" so there was no tim
 e for questions or discussion. Andy plans to attend the July 5 meeting
  and can answer questions then if needed. The web site is now up and c
 ontains the text of the pamphlet that was distributed. Please read thr
 ough the message, check out the section \"Launch Pad\", and consider t
 he petition.\n\nhttp://www.thepartyofchoice.com/\n\nOne of the discuss
 ion topics for the June meeting was the Freedom Jamboree September 28 
 to October 2 near Kansas City, Kansas. Fredrick described it as \"Wood
 stock for Conservatives\" with a straw poll. One person expressed an i
 nterest in attending but would need some financial backing, so the Fre
 edom Jamboree and sending a representative is still a topic for discus
 sion for July meeting.\nhttp://arapahoeteaparty.ning.com/events/freedo
 m-jamboree-2011\n\nSome of the June meeting was spent discussing or re
 commending books that are helpful. Cathy Mitchell, our chairman, has a
 dded a category for \"Books\" to the \"groups\" section at the bottom 
 of our web page. There are numerous books that it might be helpful to 
 have recommendations and reviews for so please check the \"Books\" gro
 up.\n\nLet us get together and discuss our ideas July 5. If you have i
 deas for topics, please add them to the comments section with this eve
 nt announcement on the web site.\n\nhttp://arapahoeteaparty.ning.com/\
 n\nWe need to be mindful of closing time for the library which is 9:00
  p.m. The time reserved includes set up and storing chairs, etc.\n\n**
 **********************\n\nDisclaimer: \"Granting of permission by the 
 Arapahoe Library District to use library facilities does not constitut
 e endorsement by the Library District Staff or Board of Trustees. \" O
 nly signs that are 8 ½ x 11 are allowed to be posted & only by the me
 eting room(s).\n\nFor more information visit http://arapahoeteaparty.n
 ing.com/events/monthly-meeting-with-sos-scott
DTSTART:20110706T003000Z
DTEND:20110706T030000Z
CATEGORIES:"monthly meeting"
LOCATION:Smoky Hill Library, Room B
WEBSITE:http://arapahoeteaparty.ning.com/
URL:http://arapahoeteaparty.ning.com/
CONTACT:(303) 690-5401
ORGANIZER:posted by Wilma Branstetter
ATTACH;FMTTYPE="image/jpeg":
ATTENDEE;ROLE=REQ-PARTICIPANT;PARTSTAT=ACCEPTED;RSVP=TRUE;CN="Jamie Be
 th Wollman":http://arapahoeteaparty.ning.com/profile/JamieBethWollman
ATTENDEE;ROLE=REQ-PARTICIPANT;PARTSTAT=ACCEPTED;RSVP=TRUE;CN="Cathy Mi
 tchell":http://arapahoeteaparty.ning.com/profile/CathyMitchell
ATTENDEE;ROLE=REQ-PARTICIPANT;PARTSTAT=ACCEPTED;RSVP=TRUE;CN="Keith Ul
 mer":http://arapahoeteaparty.ning.com/profile/KeithUlmer
ATTENDEE;ROLE=REQ-PARTICIPANT;PARTSTAT=ACCEPTED;RSVP=TRUE;CN="Fredrick
  Lindner":http://arapahoeteaparty.ning.com/profile/FredrickDLindner
ATTENDEE;ROLE=REQ-PARTICIPANT;PARTSTAT=ACCEPTED;RSVP=TRUE;CN="W. Brans
 tetter":http://arapahoeteaparty.ning.com/profile/WBranstetter
ATTENDEE;ROLE=REQ-PARTICIPANT;PARTSTAT=TENTATIVE;RSVP=TRUE;CN="Edwin N
 eal":http://arapahoeteaparty.ning.com/profile/EdwinNeal
END:VEVENT
END:VCALENDAR
