BEGIN:VCALENDAR
PRODID:NingEventWidget-v1
VERSION:2.0
METHOD:PUBLISH
BEGIN:VEVENT
UID:3186561:Event:49876
DTSTAMP:20210313T171058Z
SUMMARY:Monthly Meeting of Colorado Jewish Republican Coalition
DESCRIPTION:Note the following meeting announcement:\n\n\"Next J-GOP m
 eeting will be May 21  Join us at the East Side Kosher Deli at 6:30pm 
 to hear from one of the Colorado Gubernatorial Candidates and save the
  date of June 18 when we hear from Compass Colorado. This year we take
  back Colorado from the Left!\"  #copoliticsÂ #jewishÂ #gop\n\nEast Si
 de Kosher Deli\n499 South Elm Street\n(at Virginia Ave)\nDenver, CO 80
 247\nTime: Â 6:30 pm\nDate: Â May 21, 2014\n[see also June 18 and July
  16 dates]\n\nAdmission FREE! All are welcome! Â Â \n(A minimum $5.00Â
  food or drink order keepsÂ the location available to us)\n\nhttp://j-
 gop.com/\n\nhttps://www.facebook.com/ColoradoJewishRepublicansInformat
 ion for speakers for the May and June meetings and important events:ht
 tp://hosted-p0.vresp.com/1798689/64db6c4dc1/ARCHIVE\n\n\n\n\n\n\nFor m
 ore information visit http://arapahoeteaparty.ning.com/events/monthly-
 meeting-of-colorado-jewish-republican-coalition
DTSTART:20140522T003000Z
DTEND:20140522T023000Z
CATEGORIES:"monthly meeting"
LOCATION:East Side Kosher Deli
WEBSITE:http://j-gop.com/
URL:http://j-gop.com/
CONTACT:
ORGANIZER:posted by W. Branstetter
ATTACH;FMTTYPE="image/jpeg":
ATTENDEE;ROLE=REQ-PARTICIPANT;PARTSTAT=TENTATIVE;RSVP=TRUE;CN="W. Bran
 stetter":http://arapahoeteaparty.ning.com/profile/WBranstetter
END:VEVENT
END:VCALENDAR
