BEGIN:VCALENDAR
PRODID:NingEventWidget-v1
VERSION:2.0
METHOD:PUBLISH
BEGIN:VEVENT
UID:3186561:Event:50019
DTSTAMP:20210313T171030Z
SUMMARY:Monthly Meeting of Colorado Jewish Republican Coalition
DESCRIPTION:Note the following meeting announcement:\n\n\"Next J-GOP m
 eeting will be June 18  Join us at the East Side Kosher Deli at 6:30pm
  to hear from Kelly Maher, Compass Colorado. This year we take back Co
 lorado from the Left!\"  #copolitics #jewish #gop\n\nEast Side Koshe
 r Deli\n499 South Elm Street\n(at Virginia Ave)\nDenver, CO 80247\nTim
 e:  6:30 pm\nDate:  May 21, 2014\n[see also June 18 and July 16 date
 s]\n\nAdmission FREE! All are welcome!   \n(A minimum $5.00 food or
  drink order keeps the location available to us)\n\nhttp://j-gop.com/
 \n\nhttps://www.facebook.com/ColoradoJewishRepublicans  Information fo
 r speakers for the May and June meetings and important events:  http:/
 /hosted-p0.vresp.com/1798689/64db6c4dc1/ARCHIVE\n\n\n\n\n\n\nFor more 
 information visit http://arapahoeteaparty.ning.com/events/monthly-meet
 ing-of-colorado-jewish-republican-coalition-1
DTSTART:20140619T003000Z
DTEND:20140619T023000Z
CATEGORIES:"monthly meeting"
LOCATION:East Side Kosher Deli
WEBSITE:http://j-gop.com/
URL:http://j-gop.com/
CONTACT:
ORGANIZER:posted by W. Branstetter
ATTACH;FMTTYPE="image/jpeg":
ATTENDEE;ROLE=REQ-PARTICIPANT;PARTSTAT=TENTATIVE;RSVP=TRUE;CN="hans ha
 rtmann":http://arapahoeteaparty.ning.com/profile/hanshartmann
ATTENDEE;ROLE=REQ-PARTICIPANT;PARTSTAT=TENTATIVE;RSVP=TRUE;CN="W. Bran
 stetter":http://arapahoeteaparty.ning.com/profile/WBranstetter
END:VEVENT
END:VCALENDAR
