BEGIN:VCALENDAR
PRODID:NingEventWidget-v1
VERSION:2.0
METHOD:PUBLISH
BEGIN:VEVENT
UID:3186561:Event:44199
DTSTAMP:20210313T172618Z
SUMMARY:POSTPONED--Monthly Meeting of Arapahoe County Tea Party
DESCRIPTION:This meeting has been POSTPONED due to weather and road co
 nditions!\n \nANNOUNCEMENT! \n \nWatch/listen for Randy Corporon's 
 advertisement for this meeting on KLZ 560 radio, especially with Grass
 roots Radio Colorado show evenings from 5:00 to 7:00 p.m. \n \nWatch
  and listen for announcements.  If you are not connected via Facebook
 , please find the group \"Arapahoe Tea Party\"\n \nhttps://www.facebo
 ok.com/groups/arapahoeteaparty\n \n \nWhen:  Tuesday, April 9, 2013
  -- 6:30 - 8:30 p.m.\nWhere: \nSouth Metro Fire Rescue Authority\n919
 5 East Mineral Ave\nCentennial, CO 80112\n \n \n\nFormer Colorado se
 nator Bruce Cairns (from SD-28)\n \nAuthor Jeff Wright, \"Citizen's L
 ast Stand:  Are You Ready?\" has been talking with various groups abo
 ut his book and message.  The book is available in the usual places a
 nd he should have some available at the meeting. \n \nRandy has a vi
 deo from Hillsdale College for a new mission to \"Lead the National Co
 nversation on the Constitution...\"\n \nThere may be more?\n \nSee y
 ou there.\n \n \n\n\nFor more information visit http://arapahoeteapa
 rty.ning.com/events/monthly-meeting-of-arapahoe-county-tea-party-2
DTSTART:20130410T003000Z
DTEND:20130410T023000Z
CATEGORIES:monthly, meeting
LOCATION:South Metro Fire Rescue Authority; Mineral Headquarters, Boar
 d Room
WEBSITE:
URL:
CONTACT:
ORGANIZER:Randy Corporon [posted by W. Branstetter]
ATTACH;FMTTYPE="image/jpeg":
ATTENDEE;ROLE=REQ-PARTICIPANT;PARTSTAT=ACCEPTED;RSVP=TRUE;CN="W. Brans
 tetter":http://arapahoeteaparty.ning.com/profile/WBranstetter
ATTENDEE;ROLE=REQ-PARTICIPANT;PARTSTAT=ACCEPTED;RSVP=TRUE;CN="Frank J 
 Grasmugg":http://arapahoeteaparty.ning.com/profile/FrankJGrasmugg
ATTENDEE;ROLE=REQ-PARTICIPANT;PARTSTAT=ACCEPTED;RSVP=TRUE;CN="Lisa G S
 pear":http://arapahoeteaparty.ning.com/profile/LisaGSpear
ATTENDEE;ROLE=REQ-PARTICIPANT;PARTSTAT=ACCEPTED;RSVP=TRUE;CN="Linda Ha
 rt":http://arapahoeteaparty.ning.com/profile/LindaHart
ATTENDEE;ROLE=REQ-PARTICIPANT;PARTSTAT=TENTATIVE;RSVP=TRUE;CN="Lee Pri
 ce":http://arapahoeteaparty.ning.com/profile/LeePrice
ATTENDEE;ROLE=REQ-PARTICIPANT;PARTSTAT=TENTATIVE;RSVP=TRUE;CN="Elizabe
 th Moon":http://arapahoeteaparty.ning.com/profile/ElizabethMoon
END:VEVENT
END:VCALENDAR
