BEGIN:VCALENDAR
PRODID:NingEventWidget-v1
VERSION:2.0
METHOD:PUBLISH
BEGIN:VEVENT
UID:3186561:Event:42370
DTSTAMP:20210313T172542Z
SUMMARY:Monthly Meeting of Arapahoe County Tea Party
DESCRIPTION:ANNOUNCEMENT! \n \nRandy Corporon has an advertisement f
 or this meeting on KLZ 560 radio, especially with Grassroots Radio Col
 orado show evenings from 5:00 to 7:00 p.m.  He sketched what the topi
 c or guest would be but I do not remember.  I suspect there will be s
 ome conversation regarding the Colorado senate committee hearings from
  March 4. \n \nWatch and listen for announcements.  If you are not 
 connected via Facebook, please find the group \"Arapahoe Tea Party\"\n
  \nhttps://www.facebook.com/groups/arapahoeteaparty\n \n \nWhen:  
 Tuesday, March 5, 2013 -- 6:30 - 8:30 p.m.\nWhere: \nSouth Metro Fire
  Rescue Authority\n9195 East Mineral Ave\nCentennial, CO 80112\n \n 
 \n\nPresentation by:  \n \n \n \nEvent announcement: \n\nFaceboo
 k group:  Arapahoe Tea Party.\n\n\n\n\nFor more information visit htt
 p://arapahoeteaparty.ning.com/events/monthly-meeting-of-arapahoe-count
 y-tea-party-1
DTSTART:20130306T013000Z
DTEND:20130306T033000Z
CATEGORIES:monthly, meeting
LOCATION:South Metro Fire Rescue Authority; Mineral Headquarters, Boar
 d Room
WEBSITE:
URL:
CONTACT:
ORGANIZER:Randy Corporon [posted by W. Branstetter]
ATTACH;FMTTYPE="image/jpeg":
ATTENDEE;ROLE=REQ-PARTICIPANT;PARTSTAT=ACCEPTED;RSVP=TRUE;CN="Denise L
  Grant":http://arapahoeteaparty.ning.com/profile/DeniseLGrant
ATTENDEE;ROLE=REQ-PARTICIPANT;PARTSTAT=ACCEPTED;RSVP=TRUE;CN="Neal K P
 ashman":http://arapahoeteaparty.ning.com/profile/NealKPashman
ATTENDEE;ROLE=REQ-PARTICIPANT;PARTSTAT=ACCEPTED;RSVP=TRUE;CN="W. Brans
 tetter":http://arapahoeteaparty.ning.com/profile/WBranstetter
ATTENDEE;ROLE=REQ-PARTICIPANT;PARTSTAT=ACCEPTED;RSVP=TRUE;CN="Randy B 
 Corporon":http://arapahoeteaparty.ning.com/profile/RandyBCorporon
END:VEVENT
END:VCALENDAR
